BEGIN:VCALENDAR
VERSION:2.0
PRODID:-//Kölner BilderBogen - ECPv6.15.20//NONSGML v1.0//EN
CALSCALE:GREGORIAN
METHOD:PUBLISH
X-WR-CALNAME:Kölner BilderBogen
X-ORIGINAL-URL:https://bilderbogen.de
X-WR-CALDESC:Veranstaltungen für Kölner BilderBogen
REFRESH-INTERVAL;VALUE=DURATION:PT1H
X-Robots-Tag:noindex
X-PUBLISHED-TTL:PT1H
BEGIN:VTIMEZONE
TZID:Europe/Berlin
BEGIN:DAYLIGHT
TZOFFSETFROM:+0100
TZOFFSETTO:+0200
TZNAME:CEST
DTSTART:20250330T010000
END:DAYLIGHT
BEGIN:STANDARD
TZOFFSETFROM:+0200
TZOFFSETTO:+0100
TZNAME:CET
DTSTART:20251026T010000
END:STANDARD
BEGIN:DAYLIGHT
TZOFFSETFROM:+0100
TZOFFSETTO:+0200
TZNAME:CEST
DTSTART:20260329T010000
END:DAYLIGHT
BEGIN:STANDARD
TZOFFSETFROM:+0200
TZOFFSETTO:+0100
TZNAME:CET
DTSTART:20261025T010000
END:STANDARD
BEGIN:DAYLIGHT
TZOFFSETFROM:+0100
TZOFFSETTO:+0200
TZNAME:CEST
DTSTART:20270328T010000
END:DAYLIGHT
BEGIN:STANDARD
TZOFFSETFROM:+0200
TZOFFSETTO:+0100
TZNAME:CET
DTSTART:20271031T010000
END:STANDARD
END:VTIMEZONE
BEGIN:VEVENT
DTSTART;TZID=Europe/Berlin:20260418T110000
DTEND;TZID=Europe/Berlin:20260418T170000
DTSTAMP:20260423T104127
CREATED:20260325T093347Z
LAST-MODIFIED:20260325T093347Z
UID:30002927-1776510000-1776531600@bilderbogen.de
SUMMARY:Familientag Rodenkirchen - Rund ums Thema Wasser
DESCRIPTION:Durch den Klimawandel werden Überflutungen durch Starkregen oder Hochwasser\, aber auch Hitzetage immer öfter vorkommen. Gemeinsam möchten wir den Kölner Süden widerstandsfähiger gegenüber diesen Wetterereignissen machen. Ziel ist\, dass Überflutungen möglichst keine Schäden an Gebäuden und Fahrzeugen anrichten und dass Regenwasser gezielt bei Hitze- und Trockenheit eingesetzt werden kann. Dies schaffen wir nur gemeinsam.\nEuch erwarten Mitmachstände mit Experimenten\, einem Quizz und Bastelangeboten rund um die Themen Regenwasser\, Überflutung\, Hochwasser\, Starkregen und Gebäudebegrünung. Mit dabei die Stadt Köln\, die TH Köln\, das HKC\, die Wasserschule und das Spielmobil. \nKommt vorbei! \nBildquelle: RegenKompass StEB Köln
URL:https://bilderbogen.de/event/familientag-rodenkirchen-rund-ums-thema-wasser-2
LOCATION:Wachsfabrik\, Industriestraße 170\, Köln\, 50999\, Deutschland
CATEGORIES:Informationsveranstaltung
ATTACH;FMTTYPE=image/jpeg:https://bilderbogen.de/wp-content/uploads/2026/03/Poster-1-1.jpg
END:VEVENT
BEGIN:VEVENT
DTSTART;TZID=Europe/Berlin:20260405T140000
DTEND;TZID=Europe/Berlin:20260405T180000
DTSTAMP:20260423T104127
CREATED:20260310T105340Z
LAST-MODIFIED:20260310T105340Z
UID:30002889-1775397600-1775412000@bilderbogen.de
SUMMARY:Kunstsonntag in der Wachsfabrik
DESCRIPTION:Die Künstler*innen des Kunstzentrum Wachsfabrik laden herzlich in ihre geöffneten Ateliers ein und freuen sich auf die Besucher und persönliche Begegnungen.\n7 geöffnete Ateliers: \nAtelier 10 – Elke Pikkemaat – zirkuläre Textilkunst (Reutlingen) & Pauli Schlipf – Malerei (Berlin)\nAtelier 12 – Manfred Wachendorf\, Jovita Majewski\, Pascal Behrendt\, Inge Lager\, Anna Nguyen – Skulptur & Malerei\nAtelier 13 – Gertraud Lütkefels – Schmuck & Objekte \nAtelier 14 – miegL – Malerei & Skulptur (Forum für Studierende)\nAtelier 19 – Sabine Burghardt – Fotografie\nAtelier 20 – Joao de Almeida – Objekte\nAtelier 21 – Martha Potempa & Thomas Brück – Singer-Songwriter\n\nWeitere Informationen unter www.kunstzentrum-wachsfabrik.de
URL:https://bilderbogen.de/event/kunstsonntag-in-der-wachsfabrik
LOCATION:Wachsfabrik\, Industriestraße 170\, Köln\, 50999\, Deutschland
CATEGORIES:Ausstellung,Kunst
ATTACH;FMTTYPE=image/png:https://bilderbogen.de/wp-content/uploads/2026/03/Bildschirmfoto-2026-03-10-um-11.45.30.png
END:VEVENT
BEGIN:VEVENT
DTSTART;TZID=Europe/Berlin:20260322T140000
DTEND;TZID=Europe/Berlin:20260322T180000
DTSTAMP:20260423T104127
CREATED:20260318T094042Z
LAST-MODIFIED:20260318T094042Z
UID:30002911-1774188000-1774202400@bilderbogen.de
SUMMARY:MINI DESIGNMARKT Spring Spirit
DESCRIPTION:Am 22.03. öffnen wir von 14 -18 Uhr die G’ART’EN Tür der Wachsfabrik und starten in die Spring Season mit Sonne im Herzen\, Beats im Ohr & Kreativität an jeder Ecke und Hütte. \n🛍 MINI DESIGNMARKT\nStreetfood schnappen\, Drink in die Hand nehmen und durch den G’ART’EN & die Ateliers treiben lassen.\nFreu dich auf eine frische Auswahl an regionalen Labels\, nachhaltigen Produkten & kreativen Lieblingsstücken – entspanntes Stöbern & echte Begegnungen inklusive. \n🎧 SCHØN VIBES ONLY\nDJ Karlito @schoen.lifestyle bringt Daytime House zu uns –\nund wir schenken dir passend dazu den neuen schøn.disco secco an unserer Bar aus.\nEasy sip\, easy dance. 🥂 \n🧵 MINI STITCH WORKSHOP\nIn diesem entspannten Walk-in-Workshop lernst du easy die Basics des Stickens. Motiv auswählen\, lossticken und mit deiner eigenen bestickten Baumwolltasche nach Hause gehen.\n⏱ ca. 60 Minuten\n🛍️ Materialien inklusive\n💸 25 € pro Person vor Ort zahlbar \nGeleitet wird der Workshop von Katherine @katoylop – peruanische Künstlerin & Designerin mit langjähriger Erfahrung im Stickhandwerk. \n🖤 TATTOO SPOT @paiss.art\nOder du lässt dir direkt dein Flash-Motiv von Pias Sheet auf die Haut stechen.\nWir freuen uns Pia @paiss.art mit ihren filigranen Lines\, arty Vibes & ihren inspirierenden WannaDos dabei zu haben. \nLong story short:\nSpring Vibes tanken\, DIY ausprobieren\, Beats fühlen & neue Lieblingsmenschen treffen.\nDer März gehört uns – komm vorbei und fühl den Frühling in der @wachsfabrik.koeln. 🌿 \n📅 22.03.2026 | 14–18 Uhr\n📍 Wachsfabrik | Industriestraße 170 | 50999 Köln\n🚉 Linie 16 | Haltestelle Michaelshoven\n🎟️ Eintritt: PAY AS YOU WANT – dein Beitrag landet im Sparschwein für die nächste Runde. 💛 \nBildquelle: sieben8 events
URL:https://bilderbogen.de/event/mini-designmarkt-spring-spirit
LOCATION:Wachsfabrik\, Industriestraße 170\, Köln\, 50999\, Deutschland
CATEGORIES:Ausstellung,Kultur,Kunst,Workshop
ATTACH;FMTTYPE=image/jpeg:https://bilderbogen.de/wp-content/uploads/2026/03/MD_Feb26_Atelier8-scaled-1.jpg
END:VEVENT
BEGIN:VEVENT
DTSTART;TZID=Europe/Berlin:20260222T140000
DTEND;TZID=Europe/Berlin:20260222T180000
DTSTAMP:20260423T104127
CREATED:20260109T172532Z
LAST-MODIFIED:20260109T172532Z
UID:30002723-1771768800-1771783200@bilderbogen.de
SUMMARY:MINI DESIGNMARKT Konfetti & Kamelle
DESCRIPTION:Der G’ART’EN und die Ateliers 4\, 7 & 8 zeigen von 14 –18 Uhr\, was passiert\, wenn kreative Labels\, nachhaltige Produkte und ganz viel Herz aus der Region zusammenkommen. 🤍 \nSTREETFOOD. SOUNDS & HANDMADE GOODS. \n💚 entspannte DJ-Beats\n💚 richtig gutes Soulfood & Drinks\n💚 DIY-Workshops zum Mitmachen\n💚 und die schönsten Lofts weit und breit \nNoch mehr MINI DESIGNMARKT?\nAber sowas von 👇\n🌱 22. MÄRZ | Spring Spirit\n🎈 26. APRIL | April.April.\n🌼 31. MAI | Happy May\n🍂 13. SEP | Goodbye Summer\n🍁 11. OKT | Hello Autumn\n✨ 15. NOV | Novemberlicht \nSAVE THE DATE 🗓️ \n☀️ EARLY SUMMER DESIGNFESTIVAL\n27. JUNI | 16 – 22 Uhr & 28. JUNI I 14 – 20 Uhr \n🎄 CHRISTMAS G’ART’EN\n12. DEZ | 14 – 22 Uhr & 13. DEZ I 14 – 20 Uhr \nNoch mehr Lust auf Kreatives?\nAlle Infos zu Workshops\, Wohnzimmerkonzerten\, Pop-up Club Dinings und vielen weiteren Events findest du hier\n👉 @manufact.event \nSee you ✌️ \nPreisinformation: \n💛 Alles unter dem Motto: PAY AS YOU WANT – dein Beitrag landet direkt im Sparschwein für die nächste Runde. \nBildquelle: unsplash_erik_brolin_
URL:https://bilderbogen.de/event/mini-designmarkt-konfetti-kamelle
LOCATION:Wachsfabrik\, Industriestraße 170\, Köln\, 50999\, Deutschland
CATEGORIES:Ausstellung
ATTACH;FMTTYPE=image/jpeg:https://bilderbogen.de/wp-content/uploads/2026/01/KONFETTI-KAMELLE-2022_erik-brolin_unsplash.jpg
END:VEVENT
END:VCALENDAR