BEGIN:VCALENDAR
VERSION:2.0
PRODID:-//Kölner BilderBogen - ECPv6.15.20//NONSGML v1.0//EN
CALSCALE:GREGORIAN
METHOD:PUBLISH
X-ORIGINAL-URL:https://bilderbogen.de
X-WR-CALDESC:Veranstaltungen für Kölner BilderBogen
REFRESH-INTERVAL;VALUE=DURATION:PT1H
X-Robots-Tag:noindex
X-PUBLISHED-TTL:PT1H
BEGIN:VTIMEZONE
TZID:Europe/Berlin
BEGIN:DAYLIGHT
TZOFFSETFROM:+0100
TZOFFSETTO:+0200
TZNAME:CEST
DTSTART:20250330T010000
END:DAYLIGHT
BEGIN:STANDARD
TZOFFSETFROM:+0200
TZOFFSETTO:+0100
TZNAME:CET
DTSTART:20251026T010000
END:STANDARD
BEGIN:DAYLIGHT
TZOFFSETFROM:+0100
TZOFFSETTO:+0200
TZNAME:CEST
DTSTART:20260329T010000
END:DAYLIGHT
BEGIN:STANDARD
TZOFFSETFROM:+0200
TZOFFSETTO:+0100
TZNAME:CET
DTSTART:20261025T010000
END:STANDARD
BEGIN:DAYLIGHT
TZOFFSETFROM:+0100
TZOFFSETTO:+0200
TZNAME:CEST
DTSTART:20270328T010000
END:DAYLIGHT
BEGIN:STANDARD
TZOFFSETFROM:+0200
TZOFFSETTO:+0100
TZNAME:CET
DTSTART:20271031T010000
END:STANDARD
END:VTIMEZONE
BEGIN:VEVENT
DTSTART;TZID=Europe/Berlin:20260326T190000
DTEND;TZID=Europe/Berlin:20260326T220000
DTSTAMP:20260419T161016
CREATED:20260302T092353Z
LAST-MODIFIED:20260308T170451Z
UID:30002876-1774551600-1774562400@bilderbogen.de
SUMMARY:Winzer Dinner mit Weingut St. Antony
DESCRIPTION:Am Donnerstag\, den 26. März 2026\, laden wir euch zu einem besonderen Abend auf dem Rhein Roxy ein: Gemeinsam mit dem traditionsreichen Weingut St. Antony\, bekannt für charakterstarke Rieslinge und ausdrucksstarke Lagenweine aus Nierstein und Nackenheim\, zelebrieren wir ein exklusives Winzer Dinner voller Genuss\, Persönlichkeit und rheinhessischer Weinkultur. \nDas erwartet Sie: \n* 4-Gänge-Menü \n* Zu jedem Gang korrespondierende Weine vom Weingut St. Antony \n* Inklusive Wasser während des  Menüs \n* Kaffee nach dem Menü \nEinlass & Aperitif: ab 19:00 Uhr\, Beginn Dinner 19:30 Uhr \nPreis: 99 € pro Person\n(inkl. 4  Gang Menü\, Weinbegleitung\, Wasser\, Kaffee)
URL:https://bilderbogen.de/event/winzer-dinner-mit-weingut-st-antony
LOCATION:Rhein Roxy Köln\, Heinrich-Lübke-Ufer\, Köln\, NRW\, 50996\, Deutschland
CATEGORIES:Essen & Trinken
ATTACH;FMTTYPE=image/jpeg:https://bilderbogen.de/wp-content/uploads/2026/03/Winzer_Dinner_StAntony.jpg
END:VEVENT
END:VCALENDAR