BEGIN:VCALENDAR
VERSION:2.0
PRODID:-//Kölner BilderBogen - ECPv6.15.20//NONSGML v1.0//EN
CALSCALE:GREGORIAN
METHOD:PUBLISH
X-WR-CALNAME:Kölner BilderBogen
X-ORIGINAL-URL:https://bilderbogen.de
X-WR-CALDESC:Veranstaltungen für Kölner BilderBogen
REFRESH-INTERVAL;VALUE=DURATION:PT1H
X-Robots-Tag:noindex
X-PUBLISHED-TTL:PT1H
BEGIN:VTIMEZONE
TZID:Europe/Berlin
BEGIN:DAYLIGHT
TZOFFSETFROM:+0100
TZOFFSETTO:+0200
TZNAME:CEST
DTSTART:20250330T010000
END:DAYLIGHT
BEGIN:STANDARD
TZOFFSETFROM:+0200
TZOFFSETTO:+0100
TZNAME:CET
DTSTART:20251026T010000
END:STANDARD
BEGIN:DAYLIGHT
TZOFFSETFROM:+0100
TZOFFSETTO:+0200
TZNAME:CEST
DTSTART:20260329T010000
END:DAYLIGHT
BEGIN:STANDARD
TZOFFSETFROM:+0200
TZOFFSETTO:+0100
TZNAME:CET
DTSTART:20261025T010000
END:STANDARD
BEGIN:DAYLIGHT
TZOFFSETFROM:+0100
TZOFFSETTO:+0200
TZNAME:CEST
DTSTART:20270328T010000
END:DAYLIGHT
BEGIN:STANDARD
TZOFFSETFROM:+0200
TZOFFSETTO:+0100
TZNAME:CET
DTSTART:20271031T010000
END:STANDARD
END:VTIMEZONE
BEGIN:VEVENT
DTSTART;TZID=Europe/Berlin:20260521T100000
DTEND;TZID=Europe/Berlin:20260521T113000
DTSTAMP:20260422T152611
CREATED:20260119T160119Z
LAST-MODIFIED:20260119T161308Z
UID:30002741-1779357600-1779363000@bilderbogen.de
SUMMARY:Selbsthilfegruppe für Menschen mit Demenz im frühen Stadium in Raderthal
DESCRIPTION:Unsere Selbsthilfegruppe für Menschen mit Demenz im frühen Stadium richtet sich an Betroffene\, die sich in einem geschützten Rahmen austauschen\, gegenseitig stärken und gemeinsam Strategien für den Umgang mit der Diagnose entwickeln möchten. Die Gruppe wird fachlich begleitet und bietet Raum für Selbstbestimmung\, Teilhabe und Empowerment. Die Gruppe trifft sich jeden 3. Donnerstag im Monat um 10:00 Uhr.
URL:https://bilderbogen.de/event/selbsthilfegruppe-fuer-menschen-mit-demenz-im-fruehen-stadium-in-raderthal/2026-05-21
LOCATION:Evangelische Philippus-Kirchengemeinde Köln-Raderthal\, Albert-Schweitzer-Straße 3–5\, Köln\, NRW\, 50968\, Deutschland
CATEGORIES:Selbsthilfegruppe
END:VEVENT
BEGIN:VEVENT
DTSTART;TZID=Europe/Berlin:20260618T100000
DTEND;TZID=Europe/Berlin:20260618T113000
DTSTAMP:20260422T152611
CREATED:20260119T160119Z
LAST-MODIFIED:20260119T161308Z
UID:30002742-1781776800-1781782200@bilderbogen.de
SUMMARY:Selbsthilfegruppe für Menschen mit Demenz im frühen Stadium in Raderthal
DESCRIPTION:Unsere Selbsthilfegruppe für Menschen mit Demenz im frühen Stadium richtet sich an Betroffene\, die sich in einem geschützten Rahmen austauschen\, gegenseitig stärken und gemeinsam Strategien für den Umgang mit der Diagnose entwickeln möchten. Die Gruppe wird fachlich begleitet und bietet Raum für Selbstbestimmung\, Teilhabe und Empowerment. Die Gruppe trifft sich jeden 3. Donnerstag im Monat um 10:00 Uhr.
URL:https://bilderbogen.de/event/selbsthilfegruppe-fuer-menschen-mit-demenz-im-fruehen-stadium-in-raderthal/2026-06-18
LOCATION:Evangelische Philippus-Kirchengemeinde Köln-Raderthal\, Albert-Schweitzer-Straße 3–5\, Köln\, NRW\, 50968\, Deutschland
CATEGORIES:Selbsthilfegruppe
END:VEVENT
BEGIN:VEVENT
DTSTART;TZID=Europe/Berlin:20260716T100000
DTEND;TZID=Europe/Berlin:20260716T113000
DTSTAMP:20260422T152611
CREATED:20260119T160119Z
LAST-MODIFIED:20260119T161308Z
UID:30002743-1784196000-1784201400@bilderbogen.de
SUMMARY:Selbsthilfegruppe für Menschen mit Demenz im frühen Stadium in Raderthal
DESCRIPTION:Unsere Selbsthilfegruppe für Menschen mit Demenz im frühen Stadium richtet sich an Betroffene\, die sich in einem geschützten Rahmen austauschen\, gegenseitig stärken und gemeinsam Strategien für den Umgang mit der Diagnose entwickeln möchten. Die Gruppe wird fachlich begleitet und bietet Raum für Selbstbestimmung\, Teilhabe und Empowerment. Die Gruppe trifft sich jeden 3. Donnerstag im Monat um 10:00 Uhr.
URL:https://bilderbogen.de/event/selbsthilfegruppe-fuer-menschen-mit-demenz-im-fruehen-stadium-in-raderthal/2026-07-16
LOCATION:Evangelische Philippus-Kirchengemeinde Köln-Raderthal\, Albert-Schweitzer-Straße 3–5\, Köln\, NRW\, 50968\, Deutschland
CATEGORIES:Selbsthilfegruppe
END:VEVENT
BEGIN:VEVENT
DTSTART;TZID=Europe/Berlin:20260820T100000
DTEND;TZID=Europe/Berlin:20260820T113000
DTSTAMP:20260422T152611
CREATED:20260119T160119Z
LAST-MODIFIED:20260119T161308Z
UID:30002744-1787220000-1787225400@bilderbogen.de
SUMMARY:Selbsthilfegruppe für Menschen mit Demenz im frühen Stadium in Raderthal
DESCRIPTION:Unsere Selbsthilfegruppe für Menschen mit Demenz im frühen Stadium richtet sich an Betroffene\, die sich in einem geschützten Rahmen austauschen\, gegenseitig stärken und gemeinsam Strategien für den Umgang mit der Diagnose entwickeln möchten. Die Gruppe wird fachlich begleitet und bietet Raum für Selbstbestimmung\, Teilhabe und Empowerment. Die Gruppe trifft sich jeden 3. Donnerstag im Monat um 10:00 Uhr.
URL:https://bilderbogen.de/event/selbsthilfegruppe-fuer-menschen-mit-demenz-im-fruehen-stadium-in-raderthal/2026-08-20
LOCATION:Evangelische Philippus-Kirchengemeinde Köln-Raderthal\, Albert-Schweitzer-Straße 3–5\, Köln\, NRW\, 50968\, Deutschland
CATEGORIES:Selbsthilfegruppe
END:VEVENT
BEGIN:VEVENT
DTSTART;TZID=Europe/Berlin:20260917T100000
DTEND;TZID=Europe/Berlin:20260917T113000
DTSTAMP:20260422T152611
CREATED:20260119T160119Z
LAST-MODIFIED:20260119T161308Z
UID:30002745-1789639200-1789644600@bilderbogen.de
SUMMARY:Selbsthilfegruppe für Menschen mit Demenz im frühen Stadium in Raderthal
DESCRIPTION:Unsere Selbsthilfegruppe für Menschen mit Demenz im frühen Stadium richtet sich an Betroffene\, die sich in einem geschützten Rahmen austauschen\, gegenseitig stärken und gemeinsam Strategien für den Umgang mit der Diagnose entwickeln möchten. Die Gruppe wird fachlich begleitet und bietet Raum für Selbstbestimmung\, Teilhabe und Empowerment. Die Gruppe trifft sich jeden 3. Donnerstag im Monat um 10:00 Uhr.
URL:https://bilderbogen.de/event/selbsthilfegruppe-fuer-menschen-mit-demenz-im-fruehen-stadium-in-raderthal/2026-09-17
LOCATION:Evangelische Philippus-Kirchengemeinde Köln-Raderthal\, Albert-Schweitzer-Straße 3–5\, Köln\, NRW\, 50968\, Deutschland
CATEGORIES:Selbsthilfegruppe
END:VEVENT
BEGIN:VEVENT
DTSTART;TZID=Europe/Berlin:20261015T100000
DTEND;TZID=Europe/Berlin:20261015T113000
DTSTAMP:20260422T152611
CREATED:20260119T160119Z
LAST-MODIFIED:20260119T161308Z
UID:30002746-1792058400-1792063800@bilderbogen.de
SUMMARY:Selbsthilfegruppe für Menschen mit Demenz im frühen Stadium in Raderthal
DESCRIPTION:Unsere Selbsthilfegruppe für Menschen mit Demenz im frühen Stadium richtet sich an Betroffene\, die sich in einem geschützten Rahmen austauschen\, gegenseitig stärken und gemeinsam Strategien für den Umgang mit der Diagnose entwickeln möchten. Die Gruppe wird fachlich begleitet und bietet Raum für Selbstbestimmung\, Teilhabe und Empowerment. Die Gruppe trifft sich jeden 3. Donnerstag im Monat um 10:00 Uhr.
URL:https://bilderbogen.de/event/selbsthilfegruppe-fuer-menschen-mit-demenz-im-fruehen-stadium-in-raderthal/2026-10-15
LOCATION:Evangelische Philippus-Kirchengemeinde Köln-Raderthal\, Albert-Schweitzer-Straße 3–5\, Köln\, NRW\, 50968\, Deutschland
CATEGORIES:Selbsthilfegruppe
END:VEVENT
BEGIN:VEVENT
DTSTART;TZID=Europe/Berlin:20261119T100000
DTEND;TZID=Europe/Berlin:20261119T113000
DTSTAMP:20260422T152611
CREATED:20260119T160119Z
LAST-MODIFIED:20260119T161308Z
UID:30002747-1795082400-1795087800@bilderbogen.de
SUMMARY:Selbsthilfegruppe für Menschen mit Demenz im frühen Stadium in Raderthal
DESCRIPTION:Unsere Selbsthilfegruppe für Menschen mit Demenz im frühen Stadium richtet sich an Betroffene\, die sich in einem geschützten Rahmen austauschen\, gegenseitig stärken und gemeinsam Strategien für den Umgang mit der Diagnose entwickeln möchten. Die Gruppe wird fachlich begleitet und bietet Raum für Selbstbestimmung\, Teilhabe und Empowerment. Die Gruppe trifft sich jeden 3. Donnerstag im Monat um 10:00 Uhr.
URL:https://bilderbogen.de/event/selbsthilfegruppe-fuer-menschen-mit-demenz-im-fruehen-stadium-in-raderthal/2026-11-19
LOCATION:Evangelische Philippus-Kirchengemeinde Köln-Raderthal\, Albert-Schweitzer-Straße 3–5\, Köln\, NRW\, 50968\, Deutschland
CATEGORIES:Selbsthilfegruppe
END:VEVENT
BEGIN:VEVENT
DTSTART;TZID=Europe/Berlin:20261217T100000
DTEND;TZID=Europe/Berlin:20261217T113000
DTSTAMP:20260422T152611
CREATED:20260119T160119Z
LAST-MODIFIED:20260119T161308Z
UID:30002748-1797501600-1797507000@bilderbogen.de
SUMMARY:Selbsthilfegruppe für Menschen mit Demenz im frühen Stadium in Raderthal
DESCRIPTION:Unsere Selbsthilfegruppe für Menschen mit Demenz im frühen Stadium richtet sich an Betroffene\, die sich in einem geschützten Rahmen austauschen\, gegenseitig stärken und gemeinsam Strategien für den Umgang mit der Diagnose entwickeln möchten. Die Gruppe wird fachlich begleitet und bietet Raum für Selbstbestimmung\, Teilhabe und Empowerment. Die Gruppe trifft sich jeden 3. Donnerstag im Monat um 10:00 Uhr.
URL:https://bilderbogen.de/event/selbsthilfegruppe-fuer-menschen-mit-demenz-im-fruehen-stadium-in-raderthal/2026-12-17
LOCATION:Evangelische Philippus-Kirchengemeinde Köln-Raderthal\, Albert-Schweitzer-Straße 3–5\, Köln\, NRW\, 50968\, Deutschland
CATEGORIES:Selbsthilfegruppe
END:VEVENT
END:VCALENDAR