BEGIN:VCALENDAR
VERSION:2.0
PRODID:-//Kölner BilderBogen - ECPv6.15.20//NONSGML v1.0//EN
CALSCALE:GREGORIAN
METHOD:PUBLISH
X-WR-CALNAME:Kölner BilderBogen
X-ORIGINAL-URL:https://bilderbogen.de
X-WR-CALDESC:Veranstaltungen für Kölner BilderBogen
REFRESH-INTERVAL;VALUE=DURATION:PT1H
X-Robots-Tag:noindex
X-PUBLISHED-TTL:PT1H
BEGIN:VTIMEZONE
TZID:Europe/Berlin
BEGIN:DAYLIGHT
TZOFFSETFROM:+0100
TZOFFSETTO:+0200
TZNAME:CEST
DTSTART:20250330T010000
END:DAYLIGHT
BEGIN:STANDARD
TZOFFSETFROM:+0200
TZOFFSETTO:+0100
TZNAME:CET
DTSTART:20251026T010000
END:STANDARD
BEGIN:DAYLIGHT
TZOFFSETFROM:+0100
TZOFFSETTO:+0200
TZNAME:CEST
DTSTART:20260329T010000
END:DAYLIGHT
BEGIN:STANDARD
TZOFFSETFROM:+0200
TZOFFSETTO:+0100
TZNAME:CET
DTSTART:20261025T010000
END:STANDARD
BEGIN:DAYLIGHT
TZOFFSETFROM:+0100
TZOFFSETTO:+0200
TZNAME:CEST
DTSTART:20270328T010000
END:DAYLIGHT
BEGIN:STANDARD
TZOFFSETFROM:+0200
TZOFFSETTO:+0100
TZNAME:CET
DTSTART:20271031T010000
END:STANDARD
END:VTIMEZONE
BEGIN:VEVENT
DTSTART;TZID=Europe/Berlin:20260417T100000
DTEND;TZID=Europe/Berlin:20260528T220000
DTSTAMP:20260421T115001
CREATED:20260404T095505Z
LAST-MODIFIED:20260404T095644Z
UID:30002940-1776420000-1780005600@bilderbogen.de
SUMMARY:Venedig – ein Lebensgefühl: Fotoausstellung von Joachim Rieger
DESCRIPTION:Mit der FotoKunst zwischen Schuhen beginnt eine kleine Reise nach Venedig. \nVom 17. April bis 28. Mai zeigt der Fotograf und Künstler Joachim Rieger im Schuhhaus ZUMNORDE auf der Schildergasse 51-53 in Köln seine Fotoausstellung „Venedig – ein Lebensgefühl“ \n„Wer bereit ist\, anders zu schauen und sich auf den Rhythmus dieser besonderen Stadt einzulassen\, entdeckt eine Gelassenheit\, die Venedig zu einem einzigartigen Ort gemacht hat“ schwärmt Joachim Rieger. Dabei richtet sich sein Blick weniger auf die bekannten Sehenswürdigkeiten als auf die stilleren Momente der Lagunenstadt – Szenen des venezianischen Alltags. \nAus diesen Eindrücken entstehen in seiner Manufaktur FotoKunst im Quadrat besondere KunstObjekte. Die Fotografien werden in Handarbeit auf Materialien wie Holz\, Stein & Fliesen gefertigt. Upycling spielt dabei eine große Rolle. \nFür diese Ausstellung treten die Werke bewusst in einen Dialog mit dem Raum des Schuhhaus ZUMNORDE. Zwischen Stoffen\, Leder und Formen der Schuhe entfalten die KunstObjekte ihre eigene Präsenz. Unterschiedliche Materialien begegnen sich\, bilden Kontraste und ergänzen sich zugleich – Kunst- und Schuhhandwerk schmiegen sich regelrecht aneinander. \nDie Arbeiten verteilen sich im gesamten Schuhhaus. Besucher:innen sind eingeladen\, sich auf eine kleine Reise durch Venedig zu begeben – zwischen Schuhen und handgefertigter FotoKunst. Venedig ist mehr als eine Stadt- es ist ein Lebensgefühl. \nDen Abschluss der Ausstellung bildet eine Finissage am 28. Mai ab 18 Uhr.
URL:https://bilderbogen.de/event/venedig-ein-lebensgefuehl-fotoausstellung-von-joachim-rieger
LOCATION:Schuhaus Zumnorde\, Schildergasse 51-53\, Köln\, NRW\, 50677\, Deutschland
CATEGORIES:Ausstellung,Foto
ATTACH;FMTTYPE=image/jpeg:https://bilderbogen.de/wp-content/uploads/2026/04/Venedig-ein-Lebensgefuehl-Joachim-Rieger-007.jpg
END:VEVENT
BEGIN:VEVENT
DTSTART;TZID=Europe/Berlin:20260518T133000
DTEND;TZID=Europe/Berlin:20260518T153000
DTSTAMP:20260421T115001
CREATED:20260420T081129Z
LAST-MODIFIED:20260420T081129Z
UID:30003000-1779111000-1779118200@bilderbogen.de
SUMMARY:Spielenachmittag
DESCRIPTION:Wir laden Sie herzlich zu einem gemütlichen Spielenachmittag in die Villa AWO ein. \nBildquelle: AWO
URL:https://bilderbogen.de/event/spielenachmittag/2026-05-18
LOCATION:Villa AWO\, Walther-Rathenau-Str. 9\, Köln\, NRW\, 50996\, Deutschland
CATEGORIES:Spiele
ATTACH;FMTTYPE=image/png:https://bilderbogen.de/wp-content/uploads/2026/04/Spielenachmittag-2.Quartal-16.png
END:VEVENT
BEGIN:VEVENT
DTSTART;TZID=Europe/Berlin:20260518T180000
DTEND;TZID=Europe/Berlin:20260518T190000
DTSTAMP:20260421T115001
CREATED:20260415T073819Z
LAST-MODIFIED:20260415T073819Z
UID:30002955-1779127200-1779130800@bilderbogen.de
SUMMARY:Vortrag: Oh\, meine Heimat
DESCRIPTION:Heimat…für manche eine Region\, der man entfliehen konnte\, für andere der letzte Halt in einer globalisierten Welt. Doch Heimat ist viel\, viel mehr. \nMit anschließendem Gespräch mit Dipl. Psych. Werner Hübner \nBildquelle: Fotolia
URL:https://bilderbogen.de/event/vortrag-oh-meine-heimat
LOCATION:Cura SeniorenCentrum Köln Rodenkirchen\, Hauptstraße 128\, Köln\, NRW\, 50996\, Deutschland
CATEGORIES:Informationsveranstaltung
ATTACH;FMTTYPE=image/jpeg:https://bilderbogen.de/wp-content/uploads/2026/04/Vortrag-Heimat.jpg
END:VEVENT
BEGIN:VEVENT
DTSTART;TZID=Europe/Berlin:20260519T110000
DTEND;TZID=Europe/Berlin:20260519T120000
DTSTAMP:20260421T115001
CREATED:20260420T082152Z
LAST-MODIFIED:20260420T082455Z
UID:30003012-1779188400-1779192000@bilderbogen.de
SUMMARY:Im Gleichgewicht bleiben
DESCRIPTION:Unsicherheit und Angst zu stürzen\, das kennen viele! Deswegen bieten Annette und Hannelore diesen Kurs an und zeigen Übungen\, die dies verhindern können.\nÜbungen zur Förderung der Körperwahrnehmung\, für die Stabilisation und zum Muskelaufbau.\nSo werden wir die “Höhen und Tiefen des Alltags” sicherer bewältigen. \nBildquelle: AWO
URL:https://bilderbogen.de/event/im-gleichgewicht-bleiben/2026-05-19
LOCATION:Villa AWO\, Walther-Rathenau-Str. 9\, Köln\, NRW\, 50996\, Deutschland
CATEGORIES:Gesundheit,Sport
ATTACH;FMTTYPE=image/png:https://bilderbogen.de/wp-content/uploads/2026/04/Im-Gleichgewicht-bleiben.png
END:VEVENT
BEGIN:VEVENT
DTSTART;TZID=Europe/Berlin:20260520T103000
DTEND;TZID=Europe/Berlin:20260520T120000
DTSTAMP:20260421T115001
CREATED:20260420T083748Z
LAST-MODIFIED:20260420T083748Z
UID:30003022-1779273000-1779278400@bilderbogen.de
SUMMARY:Eltern-Kind-Gruppe
DESCRIPTION:Sie suchen keine Betreuung\, sondern Spielgefährten für Ihr Kind? Und Sie möchten dabei andere Eltern kennenlernen\, sich austauschen und neue Kontakte knüpfen?\nDann sind Sie in der Villa AWO genau richtig!\nUnsere Eltern-Kind-Gruppe richtet sich an Kinder ab etwa 6 Monaten und ihre Eltern. \nBildquelle: AWO
URL:https://bilderbogen.de/event/eltern-kind-gruppe/2026-05-20
LOCATION:Villa AWO\, Walther-Rathenau-Str. 9\, Köln\, NRW\, 50996\, Deutschland
CATEGORIES:Kinder,Spiele
ATTACH;FMTTYPE=image/png:https://bilderbogen.de/wp-content/uploads/2026/04/Eltern-Kind-Gruppe-Villa-10.png
END:VEVENT
BEGIN:VEVENT
DTSTART;TZID=Europe/Berlin:20260520T140000
DTEND;TZID=Europe/Berlin:20260520T153000
DTSTAMP:20260421T115001
CREATED:20260420T073329Z
LAST-MODIFIED:20260420T073432Z
UID:30002985-1779285600-1779291000@bilderbogen.de
SUMMARY:DIGITAL FIT – die Villa AWO hilft in jedem Alter. Kurs mit Anmeldung.
DESCRIPTION:Die Villa AWO hilft in jedem Alter. Kurs mit Anmeldung. \nTechnik muss nicht kompliziert sein.\nOb Smartphone\, Tablet oder Laptop – wir unterstützen Sie geduldig und verständlich bei Ihren ersten Schritten oder individuellen Fragen. \nBildquelle: AWO
URL:https://bilderbogen.de/event/digital-fit-die-villa-awo-hilft-in-jedem-alter-kurs-mit-anmeldung/2026-05-20
LOCATION:Villa AWO\, Walther-Rathenau-Str. 9\, Köln\, NRW\, 50996\, Deutschland
CATEGORIES:Informationsveranstaltung,PC-Kurs
ATTACH;FMTTYPE=image/png:https://bilderbogen.de/wp-content/uploads/2026/04/Digital-FIT-die-Villa-AWO-hilft-in-jedem-Alter-1.png
END:VEVENT
BEGIN:VEVENT
DTSTART;TZID=Europe/Berlin:20260520T173000
DTEND;TZID=Europe/Berlin:20260520T193000
DTSTAMP:20260421T115001
CREATED:20260421T072847Z
LAST-MODIFIED:20260421T073257Z
UID:30003031-1779298200-1779305400@bilderbogen.de
SUMMARY:Spezialitätenessen Spargel
DESCRIPTION:
URL:https://bilderbogen.de/event/spezialitaetenessen-spargel
LOCATION:Cura SeniorenCentrum Köln Rodenkirchen\, Hauptstraße 128\, Köln\, NRW\, 50996\, Deutschland
CATEGORIES:Essen & Trinken
END:VEVENT
BEGIN:VEVENT
DTSTART;TZID=Europe/Berlin:20260521T100000
DTEND;TZID=Europe/Berlin:20260521T113000
DTSTAMP:20260421T115001
CREATED:20260119T160119Z
LAST-MODIFIED:20260119T161308Z
UID:30002741-1779357600-1779363000@bilderbogen.de
SUMMARY:Selbsthilfegruppe für Menschen mit Demenz im frühen Stadium in Raderthal
DESCRIPTION:Unsere Selbsthilfegruppe für Menschen mit Demenz im frühen Stadium richtet sich an Betroffene\, die sich in einem geschützten Rahmen austauschen\, gegenseitig stärken und gemeinsam Strategien für den Umgang mit der Diagnose entwickeln möchten. Die Gruppe wird fachlich begleitet und bietet Raum für Selbstbestimmung\, Teilhabe und Empowerment. Die Gruppe trifft sich jeden 3. Donnerstag im Monat um 10:00 Uhr.
URL:https://bilderbogen.de/event/selbsthilfegruppe-fuer-menschen-mit-demenz-im-fruehen-stadium-in-raderthal/2026-05-21
LOCATION:Evangelische Philippus-Kirchengemeinde Köln-Raderthal\, Albert-Schweitzer-Straße 3–5\, Köln\, NRW\, 50968\, Deutschland
CATEGORIES:Selbsthilfegruppe
END:VEVENT
BEGIN:VEVENT
DTSTART;TZID=Europe/Berlin:20260521T173000
DTEND;TZID=Europe/Berlin:20260521T193000
DTSTAMP:20260421T115001
CREATED:20260414T095906Z
LAST-MODIFIED:20260414T095906Z
UID:30002950-1779384600-1779391800@bilderbogen.de
SUMMARY:Die Genussrunde
DESCRIPTION:Egal ob Küchenprofi oder Neuling – bei uns bist Du richtig!\nWir gründen eine neue Kochgruppe in der Villa AWO und suchen Menschen\, die Lust haben\, gemeinsam zu kochen\, neue Rezepte auszuprobieren und nette Leute kennenzulernen. \nWas erwartet Dich?\nGemeinsames Kochen & Essen\nAustausch von Ideen und Rezepten\nNeue Begegnungen & Spaß in der Küche \nAnmeldung erforderlich eine Woche vorher bei Janna Schillinger oder Aleksandra Jasinska\, unter gemeinsamsindwirstaerker@awo-koeln.de oder telefonisch unter 0178 1463 796 \nSpende für die Lebensmittel herzlich willkommen. \nBildquelle: AWO Köln
URL:https://bilderbogen.de/event/die-genussrunde/2026-05-21
LOCATION:Villa AWO\, Walther-Rathenau-Str. 9\, Köln\, NRW\, 50996\, Deutschland
CATEGORIES:Essen & Trinken,Kochen
ATTACH;FMTTYPE=image/png:https://bilderbogen.de/wp-content/uploads/2026/04/Die-Genussrunde.png
END:VEVENT
BEGIN:VEVENT
DTSTART;TZID=Europe/Berlin:20260522T100000
DTEND;TZID=Europe/Berlin:20260522T120000
DTSTAMP:20260421T115001
CREATED:20260417T081545Z
LAST-MODIFIED:20260417T082350Z
UID:30002966-1779444000-1779451200@bilderbogen.de
SUMMARY:Tischtennis
DESCRIPTION:Unser inklusives Tischtennisangebot lädt ein zum freudeorientierten Spielen – ohne Leistungsdruck\, aber mit ganz viel Herz! \nBildquelle: AWO
URL:https://bilderbogen.de/event/tischtennis/2026-05-22
LOCATION:Villa AWO\, Walther-Rathenau-Str. 9\, Köln\, NRW\, 50996\, Deutschland
CATEGORIES:Sport
ATTACH;FMTTYPE=image/png:https://bilderbogen.de/wp-content/uploads/2026/04/Tischtennis.png
END:VEVENT
BEGIN:VEVENT
DTSTART;TZID=Europe/Berlin:20260522T200000
DTEND;TZID=Europe/Berlin:20260522T223000
DTSTAMP:20260421T115001
CREATED:20260416T091132Z
LAST-MODIFIED:20260416T094004Z
UID:30002960-1779480000-1779489000@bilderbogen.de
SUMMARY:Damenbesuch – "Ungefiltert"
DESCRIPTION:Kabarett  \nWas machen drei mittelalte Musicaldarstellerinnen auf einer Kabarettbühne? Sie stehen da – und singen. Das können sie gut\, man merkt\, dass sie das schon lange machen und dass die Musik ihr Zuhause ist. Zwischen den Songs reden sie. Mal mehr\, mal weniger. Meistens über sich. Beziehungen\, Kinder\, das Alter\, Gott und die Welt. Eigentlich über alles\, was ihnen so einfällt. Mal witzig\, mal zum nachdenken\, manchmal auch ein bisschen traurig. Und dann singen sie wieder. Das können sie eh am Besten. Sie haben es Cross- Over-Musikkabarett genannt\, weil es das ist und weil es gut klingt. Sie sind genauso wenig auf ein Musikgenre festgelegt\, wie auf ein Gesprächsthema. Nur authentisch soll es sein – und dreistimmig – das klingt am besten. Überzeugen Sie sich selbst. \nhttp://www.damenbesuch.com/ \nPressebild: Miriam Ott
URL:https://bilderbogen.de/event/damenbesuch-ungefiltert
LOCATION:Theater509 Bürgerhaus Stollwerck\, Dreikönigenstraße 23\, Köln\, 50678
CATEGORIES:Kabarett
ATTACH;FMTTYPE=image/png:https://bilderbogen.de/wp-content/uploads/2026/04/Bildschirmfoto-2026-04-16-um-11.28.14.png
END:VEVENT
END:VCALENDAR