BEGIN:VCALENDAR
VERSION:2.0
PRODID:-//Kölner BilderBogen - ECPv6.15.20//NONSGML v1.0//EN
CALSCALE:GREGORIAN
METHOD:PUBLISH
X-ORIGINAL-URL:https://bilderbogen.de
X-WR-CALDESC:Veranstaltungen für Kölner BilderBogen
REFRESH-INTERVAL;VALUE=DURATION:PT1H
X-Robots-Tag:noindex
X-PUBLISHED-TTL:PT1H
BEGIN:VTIMEZONE
TZID:Europe/Berlin
BEGIN:DAYLIGHT
TZOFFSETFROM:+0100
TZOFFSETTO:+0200
TZNAME:CEST
DTSTART:20250330T010000
END:DAYLIGHT
BEGIN:STANDARD
TZOFFSETFROM:+0200
TZOFFSETTO:+0100
TZNAME:CET
DTSTART:20251026T010000
END:STANDARD
BEGIN:DAYLIGHT
TZOFFSETFROM:+0100
TZOFFSETTO:+0200
TZNAME:CEST
DTSTART:20260329T010000
END:DAYLIGHT
BEGIN:STANDARD
TZOFFSETFROM:+0200
TZOFFSETTO:+0100
TZNAME:CET
DTSTART:20261025T010000
END:STANDARD
BEGIN:DAYLIGHT
TZOFFSETFROM:+0100
TZOFFSETTO:+0200
TZNAME:CEST
DTSTART:20270328T010000
END:DAYLIGHT
BEGIN:STANDARD
TZOFFSETFROM:+0200
TZOFFSETTO:+0100
TZNAME:CET
DTSTART:20271031T010000
END:STANDARD
END:VTIMEZONE
BEGIN:VEVENT
DTSTART;TZID=Europe/Berlin:20260417T100000
DTEND;TZID=Europe/Berlin:20260528T220000
DTSTAMP:20260421T114936
CREATED:20260404T095505Z
LAST-MODIFIED:20260404T095644Z
UID:30002940-1776420000-1780005600@bilderbogen.de
SUMMARY:Venedig – ein Lebensgefühl: Fotoausstellung von Joachim Rieger
DESCRIPTION:Mit der FotoKunst zwischen Schuhen beginnt eine kleine Reise nach Venedig. \nVom 17. April bis 28. Mai zeigt der Fotograf und Künstler Joachim Rieger im Schuhhaus ZUMNORDE auf der Schildergasse 51-53 in Köln seine Fotoausstellung „Venedig – ein Lebensgefühl“ \n„Wer bereit ist\, anders zu schauen und sich auf den Rhythmus dieser besonderen Stadt einzulassen\, entdeckt eine Gelassenheit\, die Venedig zu einem einzigartigen Ort gemacht hat“ schwärmt Joachim Rieger. Dabei richtet sich sein Blick weniger auf die bekannten Sehenswürdigkeiten als auf die stilleren Momente der Lagunenstadt – Szenen des venezianischen Alltags. \nAus diesen Eindrücken entstehen in seiner Manufaktur FotoKunst im Quadrat besondere KunstObjekte. Die Fotografien werden in Handarbeit auf Materialien wie Holz\, Stein & Fliesen gefertigt. Upycling spielt dabei eine große Rolle. \nFür diese Ausstellung treten die Werke bewusst in einen Dialog mit dem Raum des Schuhhaus ZUMNORDE. Zwischen Stoffen\, Leder und Formen der Schuhe entfalten die KunstObjekte ihre eigene Präsenz. Unterschiedliche Materialien begegnen sich\, bilden Kontraste und ergänzen sich zugleich – Kunst- und Schuhhandwerk schmiegen sich regelrecht aneinander. \nDie Arbeiten verteilen sich im gesamten Schuhhaus. Besucher:innen sind eingeladen\, sich auf eine kleine Reise durch Venedig zu begeben – zwischen Schuhen und handgefertigter FotoKunst. Venedig ist mehr als eine Stadt- es ist ein Lebensgefühl. \nDen Abschluss der Ausstellung bildet eine Finissage am 28. Mai ab 18 Uhr.
URL:https://bilderbogen.de/event/venedig-ein-lebensgefuehl-fotoausstellung-von-joachim-rieger
LOCATION:Schuhaus Zumnorde\, Schildergasse 51-53\, Köln\, NRW\, 50677\, Deutschland
CATEGORIES:Ausstellung,Foto
ATTACH;FMTTYPE=image/jpeg:https://bilderbogen.de/wp-content/uploads/2026/04/Venedig-ein-Lebensgefuehl-Joachim-Rieger-007.jpg
END:VEVENT
BEGIN:VEVENT
DTSTART;TZID=Europe/Berlin:20260505T110000
DTEND;TZID=Europe/Berlin:20260505T120000
DTSTAMP:20260421T114936
CREATED:20260420T082152Z
LAST-MODIFIED:20260420T082455Z
UID:30003010-1777978800-1777982400@bilderbogen.de
SUMMARY:Im Gleichgewicht bleiben
DESCRIPTION:Unsicherheit und Angst zu stürzen\, das kennen viele! Deswegen bieten Annette und Hannelore diesen Kurs an und zeigen Übungen\, die dies verhindern können.\nÜbungen zur Förderung der Körperwahrnehmung\, für die Stabilisation und zum Muskelaufbau.\nSo werden wir die “Höhen und Tiefen des Alltags” sicherer bewältigen. \nBildquelle: AWO
URL:https://bilderbogen.de/event/im-gleichgewicht-bleiben/2026-05-05
LOCATION:Villa AWO\, Walther-Rathenau-Str. 9\, Köln\, NRW\, 50996\, Deutschland
CATEGORIES:Gesundheit,Sport
ATTACH;FMTTYPE=image/png:https://bilderbogen.de/wp-content/uploads/2026/04/Im-Gleichgewicht-bleiben.png
END:VEVENT
BEGIN:VEVENT
DTSTART;TZID=Europe/Berlin:20260505T150000
DTEND;TZID=Europe/Berlin:20260505T160000
DTSTAMP:20260421T114936
CREATED:20260415T074314Z
LAST-MODIFIED:20260415T074314Z
UID:30002956-1777993200-1777996800@bilderbogen.de
SUMMARY:Kölscher Verzäll mit Marlies Marks
DESCRIPTION:Bildquelle: Shutterstock
URL:https://bilderbogen.de/event/koelscher-verzaell-mit-marlies-marks
LOCATION:Cura SeniorenCentrum Köln Rodenkirchen\, Hauptstraße 128\, Köln\, NRW\, 50996\, Deutschland
CATEGORIES:Kölsch,Vortrag
ATTACH;FMTTYPE=image/jpeg:https://bilderbogen.de/wp-content/uploads/2026/04/Koelscher-Verzaell.jpg
END:VEVENT
BEGIN:VEVENT
DTSTART;TZID=Europe/Berlin:20260505T200000
DTEND;TZID=Europe/Berlin:20260505T223000
DTSTAMP:20260421T114936
CREATED:20260401T095718Z
LAST-MODIFIED:20260402T102700Z
UID:30002934-1778011200-1778020200@bilderbogen.de
SUMMARY:Kaja Draksler Octet
DESCRIPTION:Jazz\, Avantgarde\, Avant-Jazz\, Classical Music \nAlien Court Music“ – so werden die Kompositionen der slowenischen Pianistin und Komponistin Kaja Draksler für Bare\, Unfolding\, dem aktuellen Album ihres international besetzten Oktetts\, beschrieben. Haiku des japanischen Dichters Matsuo Basho bildeten den Ausgangspunkt für die verwobenen Gesänge von Laura Polence und Björk Níelsdóttir. Der meditative Charakter der Poesie spiegelt sich im halluzinatorischen Puls von Onno Govaerts Percussion und dem flüsternden Shakuhachi von Ab Baars wider. Tenorsaxophon\, Klarinette\, Violine und Kontrabass sorgen für Kontrast\, mit Elementen aus Avantgarde-Jazz und moderner klassischer Musik. Poesie als Leitfaden: Auf ihren beiden gefeierten Vorgängeralben Gledalec und Out For Stars griff das Kaja Draksler Octet bereits auf Gedichte von Pablo Neruda\, Gregor Strniša und Robert Frost zurück. Draksler kombiniert Komposition und Improvisation und schöpft dabei aus einer Vielzahl von Stilen\, Orten und historischen Epochen. Inspiriert wurde sie dabei von den vielfältigen Möglichkeiten und Talenten des Ensembles sowie von ihrem Hintergrund in klassischer Musik und Jazz und ihrem tiefen Interesse an freier Improvisation. \n// Laura Polence (voice)\, Björk Níelsdóttir (voice)\, Ada Rave (tenor saxophone\, clarinet)\, Ab Baars (tenor saxophone\, clarinet\, shakuhachi)\, George Dumitriu (violin\, viola)\, Kaja Draksler (piano)\, Lennart Heyndels (double bass)\, Onno Govaert (drums\, percussion) \nBildquelle: Kaja Draksler © Mare Mutic \n 
URL:https://bilderbogen.de/event/kaja-draksler-octet
LOCATION:Stadtgarten concert hall/ JAKI\, Venloer Straße 40\, Köln\, NRW\, 50672
CATEGORIES:Jazz,Musik
ATTACH;FMTTYPE=image/png:https://bilderbogen.de/wp-content/uploads/2026/04/Bildschirmfoto-2026-04-02-um-12.19.47.png
END:VEVENT
END:VCALENDAR