BEGIN:VCALENDAR
VERSION:2.0
PRODID:-//Kölner BilderBogen - ECPv6.15.20//NONSGML v1.0//EN
CALSCALE:GREGORIAN
METHOD:PUBLISH
X-ORIGINAL-URL:https://bilderbogen.de
X-WR-CALDESC:Veranstaltungen für Kölner BilderBogen
REFRESH-INTERVAL;VALUE=DURATION:PT1H
X-Robots-Tag:noindex
X-PUBLISHED-TTL:PT1H
BEGIN:VTIMEZONE
TZID:Europe/Berlin
BEGIN:DAYLIGHT
TZOFFSETFROM:+0100
TZOFFSETTO:+0200
TZNAME:CEST
DTSTART:20250330T010000
END:DAYLIGHT
BEGIN:STANDARD
TZOFFSETFROM:+0200
TZOFFSETTO:+0100
TZNAME:CET
DTSTART:20251026T010000
END:STANDARD
BEGIN:DAYLIGHT
TZOFFSETFROM:+0100
TZOFFSETTO:+0200
TZNAME:CEST
DTSTART:20260329T010000
END:DAYLIGHT
BEGIN:STANDARD
TZOFFSETFROM:+0200
TZOFFSETTO:+0100
TZNAME:CET
DTSTART:20261025T010000
END:STANDARD
BEGIN:DAYLIGHT
TZOFFSETFROM:+0100
TZOFFSETTO:+0200
TZNAME:CEST
DTSTART:20270328T010000
END:DAYLIGHT
BEGIN:STANDARD
TZOFFSETFROM:+0200
TZOFFSETTO:+0100
TZNAME:CET
DTSTART:20271031T010000
END:STANDARD
END:VTIMEZONE
BEGIN:VEVENT
DTSTART;TZID=Europe/Berlin:20260315T103000
DTEND;TZID=Europe/Berlin:20260315T133000
DTSTAMP:20260420T115252
CREATED:20260119T162306Z
LAST-MODIFIED:20260119T162742Z
UID:30002752-1773570600-1773581400@bilderbogen.de
SUMMARY:Persischer Kochtreff
DESCRIPTION:Kommen Sie vorbei und genießen Sie einen gemütlichen Vormittag beim gemeinsamen Kochen! Iba zaubert mit Ihnen persische Köstlichkeiten.\nSpenden sind herzlich willkommen!\nAnmeldung erforderlich unter: gemeinsamsindwirstaerker@awo-koeln.de \nFoto: AWO
URL:https://bilderbogen.de/event/persischer-kochtreff-2/2026-03-15
LOCATION:Villa AWO\, Walther-Rathenau-Str. 9\, Köln\, NRW\, 50996\, Deutschland
CATEGORIES:Kochen
ATTACH;FMTTYPE=image/png:https://bilderbogen.de/wp-content/uploads/2026/01/Kochtreff-IBA-1.-Quartal-2026-1.png
END:VEVENT
BEGIN:VEVENT
DTSTART;TZID=Europe/Berlin:20260315T110000
DTEND;TZID=Europe/Berlin:20260315T130000
DTSTAMP:20260420T115252
CREATED:20260107T182902Z
LAST-MODIFIED:20260107T182902Z
UID:30002707-1773572400-1773579600@bilderbogen.de
SUMMARY:» Das ist die Berliner Luft «
DESCRIPTION:Eine musikalisch-beschwingte Reise durch Berlin mit einem\nPotpourri aus Opern-\, Operetten- und Filmmusik mit\nLana Westendorf (Sopran)\nMichael Terada (Bariton) und\nYoshiko Terada (Klavier) \nDie Berliner Luft wird in vielen Liedern ausgiebig besungen.\nLassen Sie sich überraschen von Evergreens der Filmmusik sowie\nverschiedenen Stücken aus Opern und Operetten\, die alle eine\nGemeinsamkeit haben – alle haben etwas mit Berlin zu tun! \nFreuen Sie sich auf eine charmante und farbenfrohe Reise mit einer\nunvergleichlichen Mischung aus mitreissenden Melodien\, erfrischender\nLeichtigkeit\, ganz viel Herz und natürlich auch Berliner Witz. \nEintritt frei und ohne Anmeldung. \nVeranstaltungsort:\nRuder-und Tennisklub RTK Germania e.V.\nAlfred-Schütte-Allee 163\n51105 Köln-Poll\nwww.rtk-germania.de\nRTK-Germania-Musik@t-online.de \nBildquelle: Lana Westendorf ©Lindenshots / Michael u.Yoshiko Terada ©privat
URL:https://bilderbogen.de/event/das-ist-die-berliner-luft
LOCATION:RTK Germania Köln-Poll\, Alfred-Schütte-Allee 163
CATEGORIES:Musik
ATTACH;FMTTYPE=image/jpeg:https://bilderbogen.de/wp-content/uploads/2026/01/Foto-Berliner-Luft-1.jpeg
END:VEVENT
BEGIN:VEVENT
DTSTART;TZID=Europe/Berlin:20260315T110000
DTEND;TZID=Europe/Berlin:20260315T140000
DTSTAMP:20260420T115252
CREATED:20260226T104438Z
LAST-MODIFIED:20260305T103924Z
UID:30002873-1773572400-1773583200@bilderbogen.de
SUMMARY:Kinderflohmarkt
DESCRIPTION:Der Ev. Kindergarten Rodenkirchen im Familienzentrum Südpunkt möchte anlässlich seines Jubiläums eine alte Tradition noch einmal aufleben lassen und veranstaltet daher am Sonntag\, 15.März 2026\, 11.00 – 14.00 Uhr einen Kinderflohmarkt im Ev. Gemeindehaus\, Sürther Str. 34\, 50996 Köln. Neben zahlreichen Ständen wird es auch wieder eine Cafeteria geben. Infos unter 0221 165379-60 oder kita-rodenkirchen@diakonie-michaelshoven.de
URL:https://bilderbogen.de/event/kinderflohmarkt
LOCATION:Evangelische Kirche Köln-Rodenkirchen\, Sürther Str. 34\, Köln\, NRW\, 50996\, Deutschland
CATEGORIES:Flohmarkt,Kinder
ATTACH;FMTTYPE=image/png:https://bilderbogen.de/wp-content/uploads/2026/02/Bildschirmfoto-2026-03-05-um-11.36.06.png
END:VEVENT
BEGIN:VEVENT
DTSTART;TZID=Europe/Berlin:20260315T120000
DTEND;TZID=Europe/Berlin:20260315T150000
DTSTAMP:20260420T115252
CREATED:20260209T094346Z
LAST-MODIFIED:20260209T094447Z
UID:30002850-1773576000-1773586800@bilderbogen.de
SUMMARY:Finissage der Ausstellung 70 Jahre Stefan Kaiser
DESCRIPTION:Am letzten Tag der Ausstellung anlässlich des 70. Geburtstages des Bildhauers Stefan Kaiser findet eine Finissage mit Jazz-Konzert statt. Es spielt das Ensemble Klangklau. \nBildquelle: Stefan Kaiser
URL:https://bilderbogen.de/event/finissage-der-ausstellung-70-jahre-stefan-kaiser
LOCATION:Kulturkirche Köln-Rondorf\, Rondorfer Hauptstr. 45\, Köln\, 50997
CATEGORIES:Ausstellung,Jazz
ATTACH;FMTTYPE=image/jpeg:https://bilderbogen.de/wp-content/uploads/2026/02/Stefan-Kaiser_Finissage_15.03.26.jpeg
END:VEVENT
BEGIN:VEVENT
DTSTART;TZID=Europe/Berlin:20260315T180000
DTEND;TZID=Europe/Berlin:20260315T203000
DTSTAMP:20260420T115252
CREATED:20260203T104140Z
LAST-MODIFIED:20260203T104140Z
UID:30002840-1773597600-1773606600@bilderbogen.de
SUMMARY:HERZOG | MUCHE | NILLESEN – TON meets HEDVIG MOLLESTAD
DESCRIPTION:Jazz \nHERZOG | MUCHE | NILLESEN ist ein Trio für avancierte Improvisation an der Schnittstelle von Neuer Musik\, experimentellen Spielweisen und freier Klangforschung. Mit Posaune\, Kontrabass und Snare Drums entwickeln die drei Musiker eine hochkonzentrierte\, körperlich wie akustisch präzise Musik\, in der Klangfarbe\, Resonanz und mikrotonale Reibungen im Zentrum stehen. Die Instrumente werden jenseits traditioneller Rollen gedacht und gespielt. Atem\, Reibung\, Obertonfelder und subtile Bewegungen formen dichte\, ineinander verschlungene Klangräume. Musikalisch bewegt sich das Trio zwischen intimer Reduktion und weitläufigen\, sich stetig verändernden Klanglandschaften. Dynamik\, Form und Tonalität entstehen aus dem Moment heraus und bleiben bewusst offen\, sodass Raum für individuelle Wahrnehmung und konzentrierte Aufmerksamkeit entsteht. \nDem Triokonzert folgt ein Solokonzert von Hedvig Mollestad. Die norwegische Gitarristin und Komponistin ist in einer Vielzahl von Szenen und Genres tätig – unabhängig von der jeweiligen Aufgabe bleibt die Haltung der Künstlerin dabei stets kompromisslos. 2023 war sie Artist in Residence beim Molde Int. Jazz Festival; 2020 bezeichnete Downbeat sie als eine von 25 Personen\, die „die Richtung des Jazz in den kommenden Jahrzehnten prägen werden”. Für ihre Veröffentlichungen als Solokünstlerin wurde sie mit zwei Grammys ausgezeichnet und arbeitete mit Namen wie Colin Stetson\, Mats Gustafsson\, dem Trondheim Jazz Orchestra\, Shahzad Ismaily\, Ingrid Laubrock\, Nels Cline und Trevor Dunn zusammen. Ihre nächste Veröffentlichung erscheint am 17. April zusammen mit Ståle Storløkken und Ole Mofjell: Bitches Blues. \n// Matthias Muche (trombone)\, Constantin Herzog (double bass)\, Etienne Nillesen (snare drums)\, Hedvig Mollestad (guitar) \nBildquelle: TON © Rebecca der Braak
URL:https://bilderbogen.de/event/herzog-muche-nillesen-ton-meets-hedvig-mollestad
LOCATION:Stadtgarten concert hall/ JAKI\, Venloer Straße 40\, Köln\, NRW\, 50672
CATEGORIES:Jazz
ATTACH;FMTTYPE=image/png:https://bilderbogen.de/wp-content/uploads/2026/02/Bildschirmfoto-2026-02-03-um-11.40.27.png
END:VEVENT
END:VCALENDAR