BEGIN:VCALENDAR
VERSION:2.0
PRODID:-//Kölner BilderBogen - ECPv6.15.20//NONSGML v1.0//EN
CALSCALE:GREGORIAN
METHOD:PUBLISH
X-ORIGINAL-URL:https://bilderbogen.de
X-WR-CALDESC:Veranstaltungen für Kölner BilderBogen
REFRESH-INTERVAL;VALUE=DURATION:PT1H
X-Robots-Tag:noindex
X-PUBLISHED-TTL:PT1H
BEGIN:VTIMEZONE
TZID:Europe/Berlin
BEGIN:DAYLIGHT
TZOFFSETFROM:+0100
TZOFFSETTO:+0200
TZNAME:CEST
DTSTART:20250330T010000
END:DAYLIGHT
BEGIN:STANDARD
TZOFFSETFROM:+0200
TZOFFSETTO:+0100
TZNAME:CET
DTSTART:20251026T010000
END:STANDARD
BEGIN:DAYLIGHT
TZOFFSETFROM:+0100
TZOFFSETTO:+0200
TZNAME:CEST
DTSTART:20260329T010000
END:DAYLIGHT
BEGIN:STANDARD
TZOFFSETFROM:+0200
TZOFFSETTO:+0100
TZNAME:CET
DTSTART:20261025T010000
END:STANDARD
BEGIN:DAYLIGHT
TZOFFSETFROM:+0100
TZOFFSETTO:+0200
TZNAME:CEST
DTSTART:20270328T010000
END:DAYLIGHT
BEGIN:STANDARD
TZOFFSETFROM:+0200
TZOFFSETTO:+0100
TZNAME:CET
DTSTART:20271031T010000
END:STANDARD
END:VTIMEZONE
BEGIN:VEVENT
DTSTART;TZID=Europe/Berlin:20260314T100000
DTEND;TZID=Europe/Berlin:20260314T130000
DTSTAMP:20260420T114948
CREATED:20260223T105345Z
LAST-MODIFIED:20260223T105345Z
UID:30002867-1773482400-1773493200@bilderbogen.de
SUMMARY:6. Rheinputz
DESCRIPTION:Saubermachen am linksrheinischen Ufer des Rheins in Rodenkirchen – Helft mit! \nTreffpunkt und Beginn im Kölner Ruderverein von 1877 \nBildquelle: @ Roswitha Haring
URL:https://bilderbogen.de/event/6-rheinputz
LOCATION:Kölner Ruderclub 1877\, Barbarastr. 47 – 49\, Köln\, NRW\, 50996\, Deutschland
CATEGORIES:Umwelt
ATTACH;FMTTYPE=image/jpeg:https://bilderbogen.de/wp-content/uploads/2026/02/Rheinputz-Handschuhe-8-Foto-Roswitha-scaled-1.jpeg
END:VEVENT
END:VCALENDAR