BEGIN:VCALENDAR
VERSION:2.0
PRODID:-//Kölner BilderBogen - ECPv6.15.20//NONSGML v1.0//EN
CALSCALE:GREGORIAN
METHOD:PUBLISH
X-WR-CALNAME:Kölner BilderBogen
X-ORIGINAL-URL:https://bilderbogen.de
X-WR-CALDESC:Veranstaltungen für Kölner BilderBogen
REFRESH-INTERVAL;VALUE=DURATION:PT1H
X-Robots-Tag:noindex
X-PUBLISHED-TTL:PT1H
BEGIN:VTIMEZONE
TZID:Europe/Berlin
BEGIN:DAYLIGHT
TZOFFSETFROM:+0100
TZOFFSETTO:+0200
TZNAME:CEST
DTSTART:20250330T010000
END:DAYLIGHT
BEGIN:STANDARD
TZOFFSETFROM:+0200
TZOFFSETTO:+0100
TZNAME:CET
DTSTART:20251026T010000
END:STANDARD
BEGIN:DAYLIGHT
TZOFFSETFROM:+0100
TZOFFSETTO:+0200
TZNAME:CEST
DTSTART:20260329T010000
END:DAYLIGHT
BEGIN:STANDARD
TZOFFSETFROM:+0200
TZOFFSETTO:+0100
TZNAME:CET
DTSTART:20261025T010000
END:STANDARD
BEGIN:DAYLIGHT
TZOFFSETFROM:+0100
TZOFFSETTO:+0200
TZNAME:CEST
DTSTART:20270328T010000
END:DAYLIGHT
BEGIN:STANDARD
TZOFFSETFROM:+0200
TZOFFSETTO:+0100
TZNAME:CET
DTSTART:20271031T010000
END:STANDARD
END:VTIMEZONE
BEGIN:VEVENT
DTSTART;TZID=Europe/Berlin:20260125T110000
DTEND;TZID=Europe/Berlin:20260125T140000
DTSTAMP:20260424T161046
CREATED:20251121T101744Z
LAST-MODIFIED:20251121T101744Z
UID:30002659-1769338800-1769349600@bilderbogen.de
SUMMARY:ZEICHNEN im Museum
DESCRIPTION:Mit dem Zeichenblock und viel Neugierde auf Kunst besuchen wir gemeinsam eins der beliebtesten Kunstmuseen in Köln\, das Museum LUDWIG. Ob eine Skulptur\, ein Gemälde auf Leinwand oder eine Installation – jedes Werk kann die Lust aufs Zeichnen wecken. Wir nähern uns den Motiven durch eine naturgetreue oder auch abstrahierende Darstellung. Ganz nebenher lernen wir etwas zur Linienführung und zu den verschiedenen Schraffuren. Der Workshop ist für Anfänger und Fortgeschrittene geeignet. \n11 bis 14 Uhr Uhr // 85 € (zzgl. Eintritt ins Museum) \nDen genauen Treffpunkt erfahren Sie nach der Anmeldung. Dies ist ein Workshop der KUNSTWERKSTATT KÖLN\, unabhängig von den Veranstaltungen im Museum Ludwig. \nBitte mitbringen: Skizzenbuch oder Zeichenblock\, Bleistifte\, Farbstifte\, Fineliner \nBildquelle: Sabine Herbst
URL:https://bilderbogen.de/event/zeichnen-im-museum-2
LOCATION:Kunstwerkstatt im Museum Ludwig\, Heinrich-Böll-Platz\, Köln\, NRW\, 50667
CATEGORIES:Workshop
ATTACH;FMTTYPE=image/jpeg:https://bilderbogen.de/wp-content/uploads/2025/11/IMG_20250308_124704_resized_20251119_024728253.jpeg
END:VEVENT
BEGIN:VEVENT
DTSTART;TZID=Europe/Berlin:20260125T103000
DTEND;TZID=Europe/Berlin:20260125T133000
DTSTAMP:20260424T161046
CREATED:20260119T162306Z
LAST-MODIFIED:20260119T162742Z
UID:30002749-1769337000-1769347800@bilderbogen.de
SUMMARY:Persischer Kochtreff
DESCRIPTION:Kommen Sie vorbei und genießen Sie einen gemütlichen Vormittag beim gemeinsamen Kochen! Iba zaubert mit Ihnen persische Köstlichkeiten.\nSpenden sind herzlich willkommen!\nAnmeldung erforderlich unter: gemeinsamsindwirstaerker@awo-koeln.de \nFoto: AWO
URL:https://bilderbogen.de/event/persischer-kochtreff-2/2026-01-25
LOCATION:Villa AWO\, Walther-Rathenau-Str. 9\, Köln\, NRW\, 50996\, Deutschland
CATEGORIES:Kochen
ATTACH;FMTTYPE=image/png:https://bilderbogen.de/wp-content/uploads/2026/01/Kochtreff-IBA-1.-Quartal-2026-1.png
END:VEVENT
BEGIN:VEVENT
DTSTART;TZID=Europe/Berlin:20260124T190000
DTEND;TZID=Europe/Berlin:20260124T233000
DTSTAMP:20260424T161046
CREATED:20260109T174714Z
LAST-MODIFIED:20260120T171258Z
UID:30002826-1769281200-1769297400@bilderbogen.de
SUMMARY:Beats & Bützje Die Veedelsparty
DESCRIPTION:Leev Fastelovendsfründe\n\ndie jecke Zeit\, sie ist wieder da\, die Zeit der jecken Kostüme\, der bunte Schminke\, kölscher Musik\, schunkeln\, lachen und fröhlich sein.\nDies sind diese Tage voller Glück\, die es so nur in Köln und in ganz bestimmten Zeiten gibt. Ganz besonders ist dieses Glück im Fastelovend.\n\nFeiert mit uns\, den Reitern\, am 24.01.2026 die Karnevalsparty im Veedel.\nKarten bei allen Mitgliedern der KG und www.reiter.koeln\n\nBildquelle: Die Reiter
URL:https://bilderbogen.de/event/beats-buetzje-die-veedelsparty
LOCATION:Anne-Frank-Schule\, Adlerstraße 13\, Köln\, NRW\, 50997\, Deutschland
CATEGORIES:Karneval,Party
ATTACH;FMTTYPE=image/png:https://bilderbogen.de/wp-content/uploads/2026/01/image.png
END:VEVENT
BEGIN:VEVENT
DTSTART;TZID=Europe/Berlin:20260124T110000
DTEND;TZID=Europe/Berlin:20260124T140000
DTSTAMP:20260424T161046
CREATED:20251121T100652Z
LAST-MODIFIED:20251121T100652Z
UID:30002658-1769252400-1769263200@bilderbogen.de
SUMMARY:AQUARELL meditativ
DESCRIPTION:Das neue Jahr startet schnell und herausfordernd – umso wichtiger ist es\, innezuhalten und mit einfachen kreativen Übungen den eigenen Focus zu schärfen. Die sanft fließenden Aquarellfarben und kleine\, feine Spuren mit Pinsel\, Stift und Malspachtel bringen uns in den Flow\, um spielerisch neue Formen und Farbstimmungen zu entdecken. Wir tauchen ein in das Erlebnis des Malens und in eine befreiende Selbstwirksamkeit – zusammen mit anderen freundlichen Menschen in inspirierender Atmosphäre. \nOrt: Atelier auf dem Kölner Großmarkt\, Marktstraße 10\, Gebäude P2-P3 \nBildquelle: Sabine Herbst
URL:https://bilderbogen.de/event/aquarell-meditativ
LOCATION:Atelier der KUNSTWERKSTATT KÖLN auf dem Kölner Großmarkt\, Marktstraße 10\, Gebäude P2-P3\, Köln\, 50968
CATEGORIES:Kunst,Workshop
ATTACH;FMTTYPE=image/jpeg:https://bilderbogen.de/wp-content/uploads/2025/11/IMG_20251119_142146_resized_20251119_022248889.jpeg
END:VEVENT
END:VCALENDAR