BEGIN:VCALENDAR
VERSION:2.0
PRODID:-//Kölner BilderBogen - ECPv6.15.20//NONSGML v1.0//EN
CALSCALE:GREGORIAN
METHOD:PUBLISH
X-WR-CALNAME:Kölner BilderBogen
X-ORIGINAL-URL:https://bilderbogen.de
X-WR-CALDESC:Veranstaltungen für Kölner BilderBogen
REFRESH-INTERVAL;VALUE=DURATION:PT1H
X-Robots-Tag:noindex
X-PUBLISHED-TTL:PT1H
BEGIN:VTIMEZONE
TZID:Europe/Berlin
BEGIN:DAYLIGHT
TZOFFSETFROM:+0100
TZOFFSETTO:+0200
TZNAME:CEST
DTSTART:20260329T010000
END:DAYLIGHT
BEGIN:STANDARD
TZOFFSETFROM:+0200
TZOFFSETTO:+0100
TZNAME:CET
DTSTART:20261025T010000
END:STANDARD
BEGIN:DAYLIGHT
TZOFFSETFROM:+0100
TZOFFSETTO:+0200
TZNAME:CEST
DTSTART:20270328T010000
END:DAYLIGHT
BEGIN:STANDARD
TZOFFSETFROM:+0200
TZOFFSETTO:+0100
TZNAME:CET
DTSTART:20271031T010000
END:STANDARD
BEGIN:DAYLIGHT
TZOFFSETFROM:+0100
TZOFFSETTO:+0200
TZNAME:CEST
DTSTART:20280326T010000
END:DAYLIGHT
BEGIN:STANDARD
TZOFFSETFROM:+0200
TZOFFSETTO:+0100
TZNAME:CET
DTSTART:20281029T010000
END:STANDARD
END:VTIMEZONE
BEGIN:VEVENT
DTSTART;TZID=Europe/Berlin:20270123T160000
DTEND;TZID=Europe/Berlin:20270124T003000
DTSTAMP:20260425T122700
CREATED:20260319T102046Z
LAST-MODIFIED:20260319T102046Z
UID:30002917-1800720000-1800750600@bilderbogen.de
SUMMARY:JECKEDANZ em Reissdorf
DESCRIPTION:Die erste Ausgabe der JECKEDANZ in der neuen Location\, der Privatbrauerei Heinrich Reissdorf in Rodenkirchen\, war in 5 Minuten ausverkauft und lieferte ein grandioses Fest mit bester Unterhaltung\, einen sensationeller Abend mit 1.800 fantastischen Gästen. \nDas wird auch 2027 wieder ein legendäres Fest\, mit absoluten Highlights des Kölner Karnevals:\nQuerbeat\, Höhner\, Kasalla\, Klüngelköpp\, Brings\, King Loui\, Kempes Feinest und vielen anderen. \nMehr – geht nicht! \nBildquelle: KGKR
URL:https://bilderbogen.de/event/jeckedanz-em-reissdorf
LOCATION:Festhalle Reissdorf Brauerei\, Emil-Hoffmann-Str. 4-10\, Köln\, 50996
CATEGORIES:Karneval,Musik,Tanz
ATTACH;FMTTYPE=image/png:https://bilderbogen.de/wp-content/uploads/2026/03/JECKEDANZ-2027-5X4.png
END:VEVENT
BEGIN:VEVENT
DTSTART;TZID=Europe/Berlin:20270129T190000
DTEND;TZID=Europe/Berlin:20270129T230000
DTSTAMP:20260425T122700
CREATED:20260302T093429Z
LAST-MODIFIED:20260302T093429Z
UID:30002877-1801249200-1801263600@bilderbogen.de
SUMMARY:Sing met
DESCRIPTION:Save the Date \nMusikabend mit neuen Hits der Session\, kölsche Klassiker und jede Menge Stimmung \nBand 10\,00 € \nVVK läuft\, Erlös Spende \nBändchen gibt es unter SDEM@KNORR.online \n 
URL:https://bilderbogen.de/event/sing-met
LOCATION:Haus Schmitz\, Rheinstraße 6\, Köln\, NRW\, 50996\, Deutschland
CATEGORIES:Karneval,Musik
END:VEVENT
BEGIN:VEVENT
DTSTART;TZID=Europe/Berlin:20270131T130000
DTEND;TZID=Europe/Berlin:20270131T170000
DTSTAMP:20260425T122700
CREATED:20260319T105224Z
LAST-MODIFIED:20260319T105224Z
UID:30002918-1801400400-1801414800@bilderbogen.de
SUMMARY:Pänz-und Familich FasteLOVEnd
DESCRIPTION:Ur-Format unter den Veranstaltungen der KG\, findet wieder am Sonntag vor der Strassen-Karnevalswoche statt. Die bunt geschmückten OSK (Offene Schule Köln) wird auch 2027 die Bühne für den Nachwuchs zur Verfügung stellen. \nPänz-Elferrat\, Eisstand\, Kinderschminken und ganz viel Programm wird wieder dabei sein\, die KG freut sich auf einen schönen „Nohmidaach met Pänz“. \nBildquelle: KGKR
URL:https://bilderbogen.de/event/paenz-und-familich-fastelovend
LOCATION:Offene Schule Köln (OSK)\, Sürther Straße 199\, Köln\, NRW\, 50999\, Deutschland
CATEGORIES:Karneval,Kinder
ATTACH;FMTTYPE=image/png:https://bilderbogen.de/wp-content/uploads/2026/03/PuF-2027-4x3-1.png
END:VEVENT
END:VCALENDAR