BEGIN:VCALENDAR
VERSION:2.0
PRODID:-//Kölner BilderBogen - ECPv6.15.20//NONSGML v1.0//EN
CALSCALE:GREGORIAN
METHOD:PUBLISH
X-ORIGINAL-URL:https://bilderbogen.de
X-WR-CALDESC:Veranstaltungen für Kölner BilderBogen
REFRESH-INTERVAL;VALUE=DURATION:PT1H
X-Robots-Tag:noindex
X-PUBLISHED-TTL:PT1H
BEGIN:VTIMEZONE
TZID:Europe/Berlin
BEGIN:DAYLIGHT
TZOFFSETFROM:+0100
TZOFFSETTO:+0200
TZNAME:CEST
DTSTART:20250330T010000
END:DAYLIGHT
BEGIN:STANDARD
TZOFFSETFROM:+0200
TZOFFSETTO:+0100
TZNAME:CET
DTSTART:20251026T010000
END:STANDARD
BEGIN:DAYLIGHT
TZOFFSETFROM:+0100
TZOFFSETTO:+0200
TZNAME:CEST
DTSTART:20260329T010000
END:DAYLIGHT
BEGIN:STANDARD
TZOFFSETFROM:+0200
TZOFFSETTO:+0100
TZNAME:CET
DTSTART:20261025T010000
END:STANDARD
BEGIN:DAYLIGHT
TZOFFSETFROM:+0100
TZOFFSETTO:+0200
TZNAME:CEST
DTSTART:20270328T010000
END:DAYLIGHT
BEGIN:STANDARD
TZOFFSETFROM:+0200
TZOFFSETTO:+0100
TZNAME:CET
DTSTART:20271031T010000
END:STANDARD
END:VTIMEZONE
BEGIN:VEVENT
DTSTART;TZID=Europe/Berlin:20260429T103000
DTEND;TZID=Europe/Berlin:20260429T120000
DTSTAMP:20260422T133822
CREATED:20260420T083748Z
LAST-MODIFIED:20260420T083748Z
UID:30003019-1777458600-1777464000@bilderbogen.de
SUMMARY:Eltern-Kind-Gruppe
DESCRIPTION:Sie suchen keine Betreuung\, sondern Spielgefährten für Ihr Kind? Und Sie möchten dabei andere Eltern kennenlernen\, sich austauschen und neue Kontakte knüpfen?\nDann sind Sie in der Villa AWO genau richtig!\nUnsere Eltern-Kind-Gruppe richtet sich an Kinder ab etwa 6 Monaten und ihre Eltern. \nBildquelle: AWO
URL:https://bilderbogen.de/event/eltern-kind-gruppe/2026-04-29
LOCATION:Villa AWO\, Walther-Rathenau-Str. 9\, Köln\, NRW\, 50996\, Deutschland
CATEGORIES:Kinder,Spiele
ATTACH;FMTTYPE=image/png:https://bilderbogen.de/wp-content/uploads/2026/04/Eltern-Kind-Gruppe-Villa-10.png
END:VEVENT
BEGIN:VEVENT
DTSTART;TZID=Europe/Berlin:20260506T103000
DTEND;TZID=Europe/Berlin:20260506T120000
DTSTAMP:20260422T133822
CREATED:20260420T083748Z
LAST-MODIFIED:20260420T083748Z
UID:30003020-1778063400-1778068800@bilderbogen.de
SUMMARY:Eltern-Kind-Gruppe
DESCRIPTION:Sie suchen keine Betreuung\, sondern Spielgefährten für Ihr Kind? Und Sie möchten dabei andere Eltern kennenlernen\, sich austauschen und neue Kontakte knüpfen?\nDann sind Sie in der Villa AWO genau richtig!\nUnsere Eltern-Kind-Gruppe richtet sich an Kinder ab etwa 6 Monaten und ihre Eltern. \nBildquelle: AWO
URL:https://bilderbogen.de/event/eltern-kind-gruppe/2026-05-06
LOCATION:Villa AWO\, Walther-Rathenau-Str. 9\, Köln\, NRW\, 50996\, Deutschland
CATEGORIES:Kinder,Spiele
ATTACH;FMTTYPE=image/png:https://bilderbogen.de/wp-content/uploads/2026/04/Eltern-Kind-Gruppe-Villa-10.png
END:VEVENT
BEGIN:VEVENT
DTSTART;TZID=Europe/Berlin:20260513T103000
DTEND;TZID=Europe/Berlin:20260513T120000
DTSTAMP:20260422T133822
CREATED:20260420T083748Z
LAST-MODIFIED:20260420T083748Z
UID:30003021-1778668200-1778673600@bilderbogen.de
SUMMARY:Eltern-Kind-Gruppe
DESCRIPTION:Sie suchen keine Betreuung\, sondern Spielgefährten für Ihr Kind? Und Sie möchten dabei andere Eltern kennenlernen\, sich austauschen und neue Kontakte knüpfen?\nDann sind Sie in der Villa AWO genau richtig!\nUnsere Eltern-Kind-Gruppe richtet sich an Kinder ab etwa 6 Monaten und ihre Eltern. \nBildquelle: AWO
URL:https://bilderbogen.de/event/eltern-kind-gruppe/2026-05-13
LOCATION:Villa AWO\, Walther-Rathenau-Str. 9\, Köln\, NRW\, 50996\, Deutschland
CATEGORIES:Kinder,Spiele
ATTACH;FMTTYPE=image/png:https://bilderbogen.de/wp-content/uploads/2026/04/Eltern-Kind-Gruppe-Villa-10.png
END:VEVENT
BEGIN:VEVENT
DTSTART;TZID=Europe/Berlin:20260520T103000
DTEND;TZID=Europe/Berlin:20260520T120000
DTSTAMP:20260422T133822
CREATED:20260420T083748Z
LAST-MODIFIED:20260420T083748Z
UID:30003022-1779273000-1779278400@bilderbogen.de
SUMMARY:Eltern-Kind-Gruppe
DESCRIPTION:Sie suchen keine Betreuung\, sondern Spielgefährten für Ihr Kind? Und Sie möchten dabei andere Eltern kennenlernen\, sich austauschen und neue Kontakte knüpfen?\nDann sind Sie in der Villa AWO genau richtig!\nUnsere Eltern-Kind-Gruppe richtet sich an Kinder ab etwa 6 Monaten und ihre Eltern. \nBildquelle: AWO
URL:https://bilderbogen.de/event/eltern-kind-gruppe/2026-05-20
LOCATION:Villa AWO\, Walther-Rathenau-Str. 9\, Köln\, NRW\, 50996\, Deutschland
CATEGORIES:Kinder,Spiele
ATTACH;FMTTYPE=image/png:https://bilderbogen.de/wp-content/uploads/2026/04/Eltern-Kind-Gruppe-Villa-10.png
END:VEVENT
BEGIN:VEVENT
DTSTART;TZID=Europe/Berlin:20260527T103000
DTEND;TZID=Europe/Berlin:20260527T120000
DTSTAMP:20260422T133822
CREATED:20260420T083748Z
LAST-MODIFIED:20260420T083748Z
UID:30003023-1779877800-1779883200@bilderbogen.de
SUMMARY:Eltern-Kind-Gruppe
DESCRIPTION:Sie suchen keine Betreuung\, sondern Spielgefährten für Ihr Kind? Und Sie möchten dabei andere Eltern kennenlernen\, sich austauschen und neue Kontakte knüpfen?\nDann sind Sie in der Villa AWO genau richtig!\nUnsere Eltern-Kind-Gruppe richtet sich an Kinder ab etwa 6 Monaten und ihre Eltern. \nBildquelle: AWO
URL:https://bilderbogen.de/event/eltern-kind-gruppe/2026-05-27
LOCATION:Villa AWO\, Walther-Rathenau-Str. 9\, Köln\, NRW\, 50996\, Deutschland
CATEGORIES:Kinder,Spiele
ATTACH;FMTTYPE=image/png:https://bilderbogen.de/wp-content/uploads/2026/04/Eltern-Kind-Gruppe-Villa-10.png
END:VEVENT
BEGIN:VEVENT
DTSTART;TZID=Europe/Berlin:20260603T103000
DTEND;TZID=Europe/Berlin:20260603T120000
DTSTAMP:20260422T133822
CREATED:20260420T083748Z
LAST-MODIFIED:20260420T083748Z
UID:30003024-1780482600-1780488000@bilderbogen.de
SUMMARY:Eltern-Kind-Gruppe
DESCRIPTION:Sie suchen keine Betreuung\, sondern Spielgefährten für Ihr Kind? Und Sie möchten dabei andere Eltern kennenlernen\, sich austauschen und neue Kontakte knüpfen?\nDann sind Sie in der Villa AWO genau richtig!\nUnsere Eltern-Kind-Gruppe richtet sich an Kinder ab etwa 6 Monaten und ihre Eltern. \nBildquelle: AWO
URL:https://bilderbogen.de/event/eltern-kind-gruppe/2026-06-03
LOCATION:Villa AWO\, Walther-Rathenau-Str. 9\, Köln\, NRW\, 50996\, Deutschland
CATEGORIES:Kinder,Spiele
ATTACH;FMTTYPE=image/png:https://bilderbogen.de/wp-content/uploads/2026/04/Eltern-Kind-Gruppe-Villa-10.png
END:VEVENT
BEGIN:VEVENT
DTSTART;TZID=Europe/Berlin:20260610T103000
DTEND;TZID=Europe/Berlin:20260610T120000
DTSTAMP:20260422T133822
CREATED:20260420T083748Z
LAST-MODIFIED:20260420T083748Z
UID:30003025-1781087400-1781092800@bilderbogen.de
SUMMARY:Eltern-Kind-Gruppe
DESCRIPTION:Sie suchen keine Betreuung\, sondern Spielgefährten für Ihr Kind? Und Sie möchten dabei andere Eltern kennenlernen\, sich austauschen und neue Kontakte knüpfen?\nDann sind Sie in der Villa AWO genau richtig!\nUnsere Eltern-Kind-Gruppe richtet sich an Kinder ab etwa 6 Monaten und ihre Eltern. \nBildquelle: AWO
URL:https://bilderbogen.de/event/eltern-kind-gruppe/2026-06-10
LOCATION:Villa AWO\, Walther-Rathenau-Str. 9\, Köln\, NRW\, 50996\, Deutschland
CATEGORIES:Kinder,Spiele
ATTACH;FMTTYPE=image/png:https://bilderbogen.de/wp-content/uploads/2026/04/Eltern-Kind-Gruppe-Villa-10.png
END:VEVENT
BEGIN:VEVENT
DTSTART;TZID=Europe/Berlin:20260617T103000
DTEND;TZID=Europe/Berlin:20260617T120000
DTSTAMP:20260422T133822
CREATED:20260420T083748Z
LAST-MODIFIED:20260420T083748Z
UID:30003026-1781692200-1781697600@bilderbogen.de
SUMMARY:Eltern-Kind-Gruppe
DESCRIPTION:Sie suchen keine Betreuung\, sondern Spielgefährten für Ihr Kind? Und Sie möchten dabei andere Eltern kennenlernen\, sich austauschen und neue Kontakte knüpfen?\nDann sind Sie in der Villa AWO genau richtig!\nUnsere Eltern-Kind-Gruppe richtet sich an Kinder ab etwa 6 Monaten und ihre Eltern. \nBildquelle: AWO
URL:https://bilderbogen.de/event/eltern-kind-gruppe/2026-06-17
LOCATION:Villa AWO\, Walther-Rathenau-Str. 9\, Köln\, NRW\, 50996\, Deutschland
CATEGORIES:Kinder,Spiele
ATTACH;FMTTYPE=image/png:https://bilderbogen.de/wp-content/uploads/2026/04/Eltern-Kind-Gruppe-Villa-10.png
END:VEVENT
BEGIN:VEVENT
DTSTART;TZID=Europe/Berlin:20260624T103000
DTEND;TZID=Europe/Berlin:20260624T120000
DTSTAMP:20260422T133822
CREATED:20260420T083748Z
LAST-MODIFIED:20260420T083748Z
UID:30003027-1782297000-1782302400@bilderbogen.de
SUMMARY:Eltern-Kind-Gruppe
DESCRIPTION:Sie suchen keine Betreuung\, sondern Spielgefährten für Ihr Kind? Und Sie möchten dabei andere Eltern kennenlernen\, sich austauschen und neue Kontakte knüpfen?\nDann sind Sie in der Villa AWO genau richtig!\nUnsere Eltern-Kind-Gruppe richtet sich an Kinder ab etwa 6 Monaten und ihre Eltern. \nBildquelle: AWO
URL:https://bilderbogen.de/event/eltern-kind-gruppe/2026-06-24
LOCATION:Villa AWO\, Walther-Rathenau-Str. 9\, Köln\, NRW\, 50996\, Deutschland
CATEGORIES:Kinder,Spiele
ATTACH;FMTTYPE=image/png:https://bilderbogen.de/wp-content/uploads/2026/04/Eltern-Kind-Gruppe-Villa-10.png
END:VEVENT
END:VCALENDAR