BEGIN:VCALENDAR
VERSION:2.0
PRODID:-//Kölner BilderBogen - ECPv6.15.20//NONSGML v1.0//EN
CALSCALE:GREGORIAN
METHOD:PUBLISH
X-ORIGINAL-URL:https://bilderbogen.de
X-WR-CALDESC:Veranstaltungen für Kölner BilderBogen
REFRESH-INTERVAL;VALUE=DURATION:PT1H
X-Robots-Tag:noindex
X-PUBLISHED-TTL:PT1H
BEGIN:VTIMEZONE
TZID:Europe/Berlin
BEGIN:DAYLIGHT
TZOFFSETFROM:+0100
TZOFFSETTO:+0200
TZNAME:CEST
DTSTART:20250330T010000
END:DAYLIGHT
BEGIN:STANDARD
TZOFFSETFROM:+0200
TZOFFSETTO:+0100
TZNAME:CET
DTSTART:20251026T010000
END:STANDARD
BEGIN:DAYLIGHT
TZOFFSETFROM:+0100
TZOFFSETTO:+0200
TZNAME:CEST
DTSTART:20260329T010000
END:DAYLIGHT
BEGIN:STANDARD
TZOFFSETFROM:+0200
TZOFFSETTO:+0100
TZNAME:CET
DTSTART:20261025T010000
END:STANDARD
BEGIN:DAYLIGHT
TZOFFSETFROM:+0100
TZOFFSETTO:+0200
TZNAME:CEST
DTSTART:20270328T010000
END:DAYLIGHT
BEGIN:STANDARD
TZOFFSETFROM:+0200
TZOFFSETTO:+0100
TZNAME:CET
DTSTART:20271031T010000
END:STANDARD
END:VTIMEZONE
BEGIN:VEVENT
DTSTART;TZID=Europe/Berlin:20260427T133000
DTEND;TZID=Europe/Berlin:20260427T153000
DTSTAMP:20260422T115225
CREATED:20260420T081129Z
LAST-MODIFIED:20260420T081129Z
UID:30002997-1777296600-1777303800@bilderbogen.de
SUMMARY:Spielenachmittag
DESCRIPTION:Wir laden Sie herzlich zu einem gemütlichen Spielenachmittag in die Villa AWO ein. \nBildquelle: AWO
URL:https://bilderbogen.de/event/spielenachmittag/2026-04-27
LOCATION:Villa AWO\, Walther-Rathenau-Str. 9\, Köln\, NRW\, 50996\, Deutschland
CATEGORIES:Spiele
ATTACH;FMTTYPE=image/png:https://bilderbogen.de/wp-content/uploads/2026/04/Spielenachmittag-2.Quartal-16.png
END:VEVENT
BEGIN:VEVENT
DTSTART;TZID=Europe/Berlin:20260504T133000
DTEND;TZID=Europe/Berlin:20260504T153000
DTSTAMP:20260422T115225
CREATED:20260420T081129Z
LAST-MODIFIED:20260420T081129Z
UID:30002998-1777901400-1777908600@bilderbogen.de
SUMMARY:Spielenachmittag
DESCRIPTION:Wir laden Sie herzlich zu einem gemütlichen Spielenachmittag in die Villa AWO ein. \nBildquelle: AWO
URL:https://bilderbogen.de/event/spielenachmittag/2026-05-04
LOCATION:Villa AWO\, Walther-Rathenau-Str. 9\, Köln\, NRW\, 50996\, Deutschland
CATEGORIES:Spiele
ATTACH;FMTTYPE=image/png:https://bilderbogen.de/wp-content/uploads/2026/04/Spielenachmittag-2.Quartal-16.png
END:VEVENT
BEGIN:VEVENT
DTSTART;TZID=Europe/Berlin:20260511T133000
DTEND;TZID=Europe/Berlin:20260511T153000
DTSTAMP:20260422T115225
CREATED:20260420T081129Z
LAST-MODIFIED:20260420T081129Z
UID:30002999-1778506200-1778513400@bilderbogen.de
SUMMARY:Spielenachmittag
DESCRIPTION:Wir laden Sie herzlich zu einem gemütlichen Spielenachmittag in die Villa AWO ein. \nBildquelle: AWO
URL:https://bilderbogen.de/event/spielenachmittag/2026-05-11
LOCATION:Villa AWO\, Walther-Rathenau-Str. 9\, Köln\, NRW\, 50996\, Deutschland
CATEGORIES:Spiele
ATTACH;FMTTYPE=image/png:https://bilderbogen.de/wp-content/uploads/2026/04/Spielenachmittag-2.Quartal-16.png
END:VEVENT
BEGIN:VEVENT
DTSTART;TZID=Europe/Berlin:20260518T133000
DTEND;TZID=Europe/Berlin:20260518T153000
DTSTAMP:20260422T115225
CREATED:20260420T081129Z
LAST-MODIFIED:20260420T081129Z
UID:30003000-1779111000-1779118200@bilderbogen.de
SUMMARY:Spielenachmittag
DESCRIPTION:Wir laden Sie herzlich zu einem gemütlichen Spielenachmittag in die Villa AWO ein. \nBildquelle: AWO
URL:https://bilderbogen.de/event/spielenachmittag/2026-05-18
LOCATION:Villa AWO\, Walther-Rathenau-Str. 9\, Köln\, NRW\, 50996\, Deutschland
CATEGORIES:Spiele
ATTACH;FMTTYPE=image/png:https://bilderbogen.de/wp-content/uploads/2026/04/Spielenachmittag-2.Quartal-16.png
END:VEVENT
BEGIN:VEVENT
DTSTART;TZID=Europe/Berlin:20260525T133000
DTEND;TZID=Europe/Berlin:20260525T153000
DTSTAMP:20260422T115225
CREATED:20260420T081129Z
LAST-MODIFIED:20260420T081129Z
UID:30003001-1779715800-1779723000@bilderbogen.de
SUMMARY:Spielenachmittag
DESCRIPTION:Wir laden Sie herzlich zu einem gemütlichen Spielenachmittag in die Villa AWO ein. \nBildquelle: AWO
URL:https://bilderbogen.de/event/spielenachmittag/2026-05-25
LOCATION:Villa AWO\, Walther-Rathenau-Str. 9\, Köln\, NRW\, 50996\, Deutschland
CATEGORIES:Spiele
ATTACH;FMTTYPE=image/png:https://bilderbogen.de/wp-content/uploads/2026/04/Spielenachmittag-2.Quartal-16.png
END:VEVENT
BEGIN:VEVENT
DTSTART;TZID=Europe/Berlin:20260601T133000
DTEND;TZID=Europe/Berlin:20260601T153000
DTSTAMP:20260422T115225
CREATED:20260420T081129Z
LAST-MODIFIED:20260420T081129Z
UID:30003002-1780320600-1780327800@bilderbogen.de
SUMMARY:Spielenachmittag
DESCRIPTION:Wir laden Sie herzlich zu einem gemütlichen Spielenachmittag in die Villa AWO ein. \nBildquelle: AWO
URL:https://bilderbogen.de/event/spielenachmittag/2026-06-01
LOCATION:Villa AWO\, Walther-Rathenau-Str. 9\, Köln\, NRW\, 50996\, Deutschland
CATEGORIES:Spiele
ATTACH;FMTTYPE=image/png:https://bilderbogen.de/wp-content/uploads/2026/04/Spielenachmittag-2.Quartal-16.png
END:VEVENT
BEGIN:VEVENT
DTSTART;TZID=Europe/Berlin:20260608T133000
DTEND;TZID=Europe/Berlin:20260608T153000
DTSTAMP:20260422T115225
CREATED:20260420T081129Z
LAST-MODIFIED:20260420T081129Z
UID:30003003-1780925400-1780932600@bilderbogen.de
SUMMARY:Spielenachmittag
DESCRIPTION:Wir laden Sie herzlich zu einem gemütlichen Spielenachmittag in die Villa AWO ein. \nBildquelle: AWO
URL:https://bilderbogen.de/event/spielenachmittag/2026-06-08
LOCATION:Villa AWO\, Walther-Rathenau-Str. 9\, Köln\, NRW\, 50996\, Deutschland
CATEGORIES:Spiele
ATTACH;FMTTYPE=image/png:https://bilderbogen.de/wp-content/uploads/2026/04/Spielenachmittag-2.Quartal-16.png
END:VEVENT
BEGIN:VEVENT
DTSTART;TZID=Europe/Berlin:20260615T133000
DTEND;TZID=Europe/Berlin:20260615T153000
DTSTAMP:20260422T115225
CREATED:20260420T081129Z
LAST-MODIFIED:20260420T081129Z
UID:30003004-1781530200-1781537400@bilderbogen.de
SUMMARY:Spielenachmittag
DESCRIPTION:Wir laden Sie herzlich zu einem gemütlichen Spielenachmittag in die Villa AWO ein. \nBildquelle: AWO
URL:https://bilderbogen.de/event/spielenachmittag/2026-06-15
LOCATION:Villa AWO\, Walther-Rathenau-Str. 9\, Köln\, NRW\, 50996\, Deutschland
CATEGORIES:Spiele
ATTACH;FMTTYPE=image/png:https://bilderbogen.de/wp-content/uploads/2026/04/Spielenachmittag-2.Quartal-16.png
END:VEVENT
BEGIN:VEVENT
DTSTART;TZID=Europe/Berlin:20260622T133000
DTEND;TZID=Europe/Berlin:20260622T153000
DTSTAMP:20260422T115225
CREATED:20260420T081129Z
LAST-MODIFIED:20260420T081129Z
UID:30003005-1782135000-1782142200@bilderbogen.de
SUMMARY:Spielenachmittag
DESCRIPTION:Wir laden Sie herzlich zu einem gemütlichen Spielenachmittag in die Villa AWO ein. \nBildquelle: AWO
URL:https://bilderbogen.de/event/spielenachmittag/2026-06-22
LOCATION:Villa AWO\, Walther-Rathenau-Str. 9\, Köln\, NRW\, 50996\, Deutschland
CATEGORIES:Spiele
ATTACH;FMTTYPE=image/png:https://bilderbogen.de/wp-content/uploads/2026/04/Spielenachmittag-2.Quartal-16.png
END:VEVENT
BEGIN:VEVENT
DTSTART;TZID=Europe/Berlin:20260629T133000
DTEND;TZID=Europe/Berlin:20260629T153000
DTSTAMP:20260422T115225
CREATED:20260420T081129Z
LAST-MODIFIED:20260420T081129Z
UID:30003006-1782739800-1782747000@bilderbogen.de
SUMMARY:Spielenachmittag
DESCRIPTION:Wir laden Sie herzlich zu einem gemütlichen Spielenachmittag in die Villa AWO ein. \nBildquelle: AWO
URL:https://bilderbogen.de/event/spielenachmittag/2026-06-29
LOCATION:Villa AWO\, Walther-Rathenau-Str. 9\, Köln\, NRW\, 50996\, Deutschland
CATEGORIES:Spiele
ATTACH;FMTTYPE=image/png:https://bilderbogen.de/wp-content/uploads/2026/04/Spielenachmittag-2.Quartal-16.png
END:VEVENT
END:VCALENDAR